Workbook

Sheet KOOND
E1: LISA
A3: Reasildid | B3: Summa kogusummast 2027 | C3: Summa kogusummast 2028 | D3: Summa kogusummast 2029 | E3: Summa kogusummast 2030
A4: Riigikogu Kantselei | B4: 47670318 | C4: 42549827 | D4: 43442525 | E4: 43479884
A5: INV | B5: 3351032 | C5: 2924680 | D5: 2924680 | E5: 2243180
A6: Investeeringud | B6: 3351032 | C6: 2924680 | D6: 2924680 | E6: 2243180
A7: KULU | B7: 44167286 | C7: 39623147 | D7: 40445845 | E7: 41234704
A8: Intressikulu ja muud finantskulud | C8: 100000 | D8: 100000 | E8: 100000
A9: Käibemaksukulu majandamiskuludelt | B9: 1182898 | C9: 1157634 | D9: 1165123 | E9: 1172385
A10: Käibemaksukulu põhivara soetuselt | B10: 294488 | C10: 125563 | D10: 125563 | E10: 125563
A11: Majandamiskulud | B11: 9252847 | C11: 9328101 | D11: 9465587 | E11: 9598901
A12: Muud toetused | B12: 2848000 | C12: 168000 | D12: 168000 | E12: 168000
A13: Põhivara amortisatsioon ja ümberhindlus | B13: 2998498 | C13: 3215685 | D13: 3343152 | E13: 3457873
A14: Sotsiaaltoetused | B14: 3000 | C14: 3000 | D14: 3000 | E14: 3000
A15: Tööjõukulud | B15: 27587555 | C15: 25525164 | D15: 26075420 | E15: 26608982
A16: TULU | B16: 152000 | C16: 2000 | D16: 72000 | E16: 2000
A17: Muud tegevustulud | B17: 150000 | D17: 70000
A18: Tulud majandustegevusest | B18: 1000 | C18: 1000 | D18: 1000 | E18: 1000
A19: Üüri- ja renditulud, õiguste müügitulu, muu toodete ja teenuste müük | B19: 1000 | C19: 1000 | D19: 1000 | E19: 1000
A20: Riigikohus | B20: 8474601 | C20: 8482370 | D20: 8640664 | E20: 8494757
A21: KULU | B21: 8035947 | C21: 8078506 | D21: 8258645 | E21: 8179957
A22: Käibemaksukulu majandamiskuludelt | B22: 132594 | C22: 132594 | D22: 132594 | E22: 132594
A23: Majandamiskulud | B23: 1211497 | C23: 894600 | D23: 870531 | E23: 791843
A24: Muud toetused | B24: 10535 | C24: 13735 | D24: 10535 | E24: 10535
A25: Põhivara amortisatsioon ja ümberhindlus | B25: 211000 | C25: 211000 | D25: 211000 | E25: 211000
A26: Tööjõukulud | B26: 6470321 | C26: 6826577 | D26: 7033985 | E26: 7033985
A27: TULU | B27: 438654 | C27: 403864 | D27: 382019 | E27: 314800
A28: Riigilõivud | B28: 310000 | C28: 310000 | D28: 310000 | E28: 310000
A29: Saadud välistoetus | B29: 123854 | C29: 89064 | D29: 67219
A30: Tulud majandustegevusest | B30: 4800 | C30: 4800 | D30: 4800 | E30: 4800
A31: Riigikontroll | B31: 6451836 | C31: 6397640 | D31: 6392079 | E31: 6381079
A32: KULU | B32: 6451836 | C32: 6397640 | D32: 6392079 | E32: 6381079
A33: Käibemaksukulu majandamiskuludelt | B33: 282000 | C33: 282000 | D33: 282000 | E33: 282000
A34: Majandamiskulud | B34: 1566265 | C34: 1567285 | D34: 1568258 | E34: 1568258
A35: Põhivara amortisatsioon ja ümberhindlus | B35: 92000 | C35: 30000 | D35: 17000 | E35: 6000
A36: Tööjõukulud | B36: 4511571 | C36: 4518355 | D36: 4524821 | E36: 4524821
A37: Vabariigi Presidendi Kantselei | B37: 7409702 | C37: 7411238 | D37: 7441297 | E37: 7441297
A38: INV | B38: 55833 | C38: 25833 | D38: 25833 | E38: 25833
A39: Investeeringud | B39: 55833 | C39: 25833 | D39: 25833 | E39: 25833
A40: KULU | B40: 7319869 | C40: 7351405 | D40: 7381464 | E40: 7381464
A41: Käibemaksukulu majandamiskuludelt | B41: 449015 | C41: 449015 | D41: 449015 | E41: 449015
... A55: Üldkokkuvõte | B55: 73884961 | C55: 68727383 | D55: 69890026 | E55: 69770478

Sheet Alusandmed
A1: Aruanne asutuste lõikes - sisestatud detailread - koondosa näitab filtris valitud asutust või valitsemisala (vastavalt tehtud valikule) kokku | R1: Riigi eelarvestrateegia 2027-2030 | U1: INPUT - Data Input,ALLOCATIONS - Allocations
A2: Põhiseaduslikud institutsioonid | R2: Viimati värskendatud: 09.09.2026 18:11:42 kasutaja kairite poolt | U2: RES
U3: 2027
U4: Riigi eelarvestrateegia
L5: Subtotal valemiga tehtud kogusumma rida: | M5: 214298193 | N5: 197504649 | O5: 200992578 | P5: 202678434 | U5: 2030
A7: Valitsemisala | B7: Asutus | C7: Funds center | D7: Majanduslik sisu | E7: Konto | F7: Konto_2 | G7: Liik | H7: Objekt | I7: Tehinu-partneri kood | J7: COFOG | K7: Selgituse nr | L7: Grant | M7: 2027 | N7: 2028 | O7: 2029 | P7: 2030 | Q7: Selgitus | R7: Objektikoodi nimetus | U7: 2027-2030
A8: Riigikogu Kantselei | B8: Riigikogu Kantselei | C8: EA10 | D8: INV | E8: 15 | F8: =VLOOKUP(E8,Kontod!A:B,2,FALSE) -> Investeeringud | G8: 20 | H8: IN002000 | I8: AAD_NONE | J8: 01110 | K8: 1 | L8: - | M8: 438560 | N8: 338560 | O8: 338560 | P8: 338560 | R8: IT investeeringud
A9: Riigikogu Kantselei | B9: Riigikogu Kantselei | C9: EA10 | D9: INV | E9: 15 | F9: =VLOOKUP(E9,Kontod!A:B,2,FALSE) -> Investeeringud | G9: 20 | H9: IN002000 | I9: AAD_NONE | J9: 01110 | K9: 2 | L9: - | M9: 144620 | N9: 144620 | O9: 144620 | P9: 144620 | R9: IT investeeringud
A10: Riigikogu Kantselei | B10: Riigikogu Kantselei | C10: EA10 | D10: INV | E10: 15 | F10: =VLOOKUP(E10,Kontod!A:B,2,FALSE) -> Investeeringud | G10: 20 | H10: IN002000 | I10: AAD_NONE | J10: 01110 | K10: 3 | L10: - | M10: 603852 | N10: 0 | R10: IT investeeringud
A11: Riigikogu Kantselei | B11: Riigikogu Kantselei | C11: EA10 | D11: INV | E11: 15 | F11: =VLOOKUP(E11,Kontod!A:B,2,FALSE) -> Investeeringud | G11: 20 | H11: IN004000 | I11: AAD_NONE | J11: 01110 | K11: 1 | L11: - | M11: 40000 | N11: 40000 | O11: 40000 | P11: 40000 | R11: Masinad ja seadmed
A12: Riigikogu Kantselei | B12: Riigikogu Kantselei | C12: EA10 | D12: INV | E12: 15 | F12: =VLOOKUP(E12,Kontod!A:B,2,FALSE) -> Investeeringud | G12: 20 | H12: IN002007 | I12: AAD_NONE | J12: 01110 | K12: 1 | L12: - | M12: 1720000 | N12: 1720000 | O12: 1720000 | P12: 1720000 | R12: Riigi valimisteenistuse IT Investeering
A13: Riigikogu Kantselei | B13: Riigikogu Kantselei | C13: EA10 | D13: INV | E13: 15 | F13: =VLOOKUP(E13,Kontod!A:B,2,FALSE) -> Investeeringud | G13: 20 | H13: ??? | I13: AAD_NONE | J13: 01110 | K13: 1 | L13: - | M13: =Lisavahendid!B40 -> 404000 | N13: =Lisavahendid!C40 -> 681500 | O13: =Lisavahendid!D40 -> 681500 | P13: =Lisavahendid!E40 -> 0 | R13: Riigi valimisteenistuse IT Investeering
A14: Riigikogu Kantselei | B14: Riigikogu Kantselei | C14: EA10 | D14: KULU | E14: 601002 | F14: =VLOOKUP(E14,Kontod!A:B,2,FALSE) -> Käibemaksukulu põhivara soetuselt | G14: 10 | H14: - | I14: AAD_NONE | J14: 01110 | K14: 1 | L14: - | M14: 294488 | N14: 125563 | O14: 125563 | P14: 125563 | R14: Puudub
A15: Riigikogu Kantselei | B15: Riigikogu Kantselei | C15: EA10 | D15: KULU | E15: 41 | F15: =VLOOKUP(E15,Kontod!A:B,2,FALSE) -> Sotsiaaltoetused | G15: 20 | H15: - | I15: AAD_NONE | J15: 10800 | K15: 1 | L15: - | M15: 3000 | N15: 3000 | O15: 3000 | P15: 3000 | R15: Puudub
A16: Riigikogu Kantselei | B16: Riigikogu Kantselei | C16: EA10 | D16: KULU | E16: 50 | F16: =VLOOKUP(E16,Kontod!A:B,2,FALSE) -> Tööjõukulud | G16: 10 | H16: SEP10002 | I16: AAD_NONE | J16: 01110 | K16: 1 | L16: - | M16: 15025112 | N16: 12962721 | O16: 13512977 | P16: 14046539 | R16: Riigikogu liikmete palgafond
A17: Riigikogu Kantselei | B17: Riigikogu Kantselei | C17: EA10 | D17: KULU | E17: 50 | F17: =VLOOKUP(E17,Kontod!A:B,2,FALSE) -> Tööjõukulud | G17: 20 | H17: - | I17: AAD_NONE | J17: 01110 | K17: 1 | L17: - | M17: 10257818 | N17: 10257818 | O17: 10257818 | P17: 10257818 | R17: Puudub
A18: Riigikogu Kantselei | B18: Riigikogu Kantselei | C18: EA10 | D18: KULU | E18: 50 | F18: =VLOOKUP(E18,Kontod!A:B,2,FALSE) -> Tööjõukulud | G18: 20 | H18: - | I18: AAD_NONE | J18: 01110 | K18: 1 | L18: - | M18: =Lisavahendid!B34 -> 780000 | N18: =Lisavahendid!C34 -> 780000 | O18: =Lisavahendid!D34 -> 780000 | P18: =Lisavahendid!E34 -> 780000 | R18: Puudub
A19: Riigikogu Kantselei | B19: Riigikogu Kantselei | C19: EA10 | D19: KULU | E19: 50 | F19: =VLOOKUP(E19,Kontod!A:B,2,FALSE) -> Tööjõukulud | G19: 20 | H19: SEP10006 | I19: AAD_NONE | J19: 01110 | K19: 2 | L19: - | M19: 852400 | N19: 852400 | O19: 852400 | P19: 852400 | R19: Riigi valimisteenistus
A20: Riigikogu Kantselei | B20: Riigikogu Kantselei | C20: EA10 | D20: KULU | E20: 50 | F20: =VLOOKUP(E20,Kontod!A:B,2,FALSE) -> Tööjõukulud | G20: 20 | H20: SEP10007 | I20: AAD_NONE | J20: 01110 | K20: 2 | L20: - | M20: 593760 | N20: 593760 | O20: 593760 | P20: 593760 | R20: Arenguseire Keskus
A21: Riigikogu Kantselei | B21: Riigikogu Kantselei | C21: EA10 | D21: KULU | E21: 55 | F21: =VLOOKUP(E21,Kontod!A:B,2,FALSE) -> Majandamiskulud | G21: 20 | H21: - | I21: AAD_NONE | J21: 01110 | K21: 1 | L21: - | M21: 2933828 | N21: 3041767 | O21: 3041767 | P21: 3041767 | R21: Puudub
A22: Riigikogu Kantselei | B22: Riigikogu Kantselei | C22: EA10 | D22: KULU | E22: 55 | F22: =VLOOKUP(E22,Kontod!A:B,2,FALSE) -> Majandamiskulud | G22: 20 | H22: - | I22: AAD_NONE | J22: 01110 | K22: 2 | L22: - | M22: 3369718 | N22: 3612033 | O22: 3749519 | P22: 3882833 | R22: Puudub
A23: Riigikogu Kantselei | B23: Riigikogu Kantselei | C23: EA10 | D23: KULU | E23: 55 | F23: =VLOOKUP(E23,Kontod!A:B,2,FALSE) -> Majandamiskulud | G23: 20 | H23: - | I23: AAD_NONE | J23: 01110 | K23: 2 | L23: - | M23: =Lisavahendid!B38 -> 250000 | N23: =Lisavahendid!C38 -> 250000 | O23: =Lisavahendid!D38 -> 250000 | P23: =Lisavahendid!E38 -> 250000 | R23: Puudub
A24: Riigikogu Kantselei | B24: Riigikogu Kantselei | C24: EA10 | D24: KULU | E24: 55 | F24: =VLOOKUP(E24,Kontod!A:B,2,FALSE) -> Majandamiskulud | G24: 20 | H24: SEP10006 | I24: AAD_NONE | J24: 01110 | K24: 1 | L24: - | M24: 981860 | N24: 706860 | O24: 706860 | P24: 706860 | R24: Riigi valimisteenistus
A25: Riigikogu Kantselei | B25: Riigikogu Kantselei | C25: EA10 | D25: KULU | E25: 55 | F25: =VLOOKUP(E25,Kontod!A:B,2,FALSE) -> Majandamiskulud | G25: 20 | H25: SEP10007 | I25: AAD_NONE | J25: 01110 | K25: 1 | L25: - | M25: 226902 | N25: 226902 | O25: 226902 | P25: 226902 | R25: Arenguseire Keskus
A26: Riigikogu Kantselei | B26: Riigikogu Kantselei | C26: EA10 | D26: KULU | E26: 55 | F26: =VLOOKUP(E26,Kontod!A:B,2,FALSE) -> Majandamiskulud | G26: 20 | H26: SE000047 | I26: AAD_NONE | J26: 01110 | K26: 1 | L26: - | M26: 1405431 | N26: 1405431 | O26: 1405431 | P26: 1405431 | R26: Riigi valimisteenistuse IT tegevuskulud
A27: Riigikogu Kantselei | B27: Riigikogu Kantselei | C27: EA10 | D27: KULU | E27: 55 | F27: =VLOOKUP(E27,Kontod!A:B,2,FALSE) -> Majandamiskulud | G27: 44 | H27: - | I27: AAD_NONE | J27: 01110 | K27: 1 | L27: - | M27: 1000 | N27: 1000 | O27: 1000 | P27: 1000 | R27: Puudub
A28: Riigikogu Kantselei | B28: Riigikogu Kantselei | C28: EA10 | D28: KULU | E28: 61 | F28: =VLOOKUP(E28,Kontod!A:B,2,FALSE) -> Põhivara amortisatsioon ja ümberhindlus | G28: 60 | H28: - | I28: AAD_NONE | J28: 01110 | K28: 1 | L28: - | M28: 2994498 | N28: 3211685 | O28: 3339152 | P28: 3453873 | R28: Puudub
A29: Riigikogu Kantselei | B29: Riigikogu Kantselei | C29: EA10 | D29: KULU | E29: 650 | F29: =VLOOKUP(E29,Kontod!A:B,2,FALSE) -> Intressikulu ja muud finantskulud | G29: 10 | H29: - | I29: AAD_NONE | J29: 01110 | K29: 1 | L29: - | N29: 100000 | O29: 100000 | P29: 100000 | R29: Puudub
A30: Riigikogu Kantselei | B30: Riigikogu Kantselei | C30: EA10 | D30: KULU | E30: 450 | F30: =VLOOKUP(E30,Kontod!A:B,2,FALSE) -> Muud toetused | G30: 20 | H30: SEP10001 | I30: AAD_NONE | J30: 01110 | K30: 1 | L30: - | M30: 2680000 | N30: 0 | R30: Valimistega seotud tegevused
A31: Riigikogu Kantselei | B31: Riigikogu Kantselei | C31: EA10 | D31: KULU | E31: 452 | F31: =VLOOKUP(E31,Kontod!A:B,2,FALSE) -> Muud toetused | G31: 20 | H31: SE000003 | I31: AAD_NONE | J31: 01110 | K31: 1 | L31: - | M31: 168000 | N31: 168000 | O31: 168000 | P31: 168000 | R31: Liikmemaksud
A32: Riigikogu Kantselei | B32: Riigikogu Kantselei | C32: EA10 | D32: KULU | E32: 601000 | F32: =VLOOKUP(E32,Kontod!A:B,2,FALSE) -> Käibemaksukulu majandamiskuludelt | G32: 10 | H32: - | I32: AAD_NONE | J32: 01110 | K32: 1 | L32: - | M32: 974322 | N32: 934228 | O32: 934228 | P32: 934228 | R32: Puudub
A33: Riigikogu Kantselei | B33: Riigikogu Kantselei | C33: EA10 | D33: KULU | E33: 601000 | F33: =VLOOKUP(E33,Kontod!A:B,2,FALSE) -> Käibemaksukulu majandamiskuludelt | G33: 10 | H33: - | I33: AAD_NONE | J33: 01110 | K33: 2 | L33: - | M33: 188390 | N33: 203220 | O33: 210709 | P33: 217971 | R33: Puudub
A34: Riigikogu Kantselei | B34: Riigikogu Kantselei | C34: EA10 | D34: TULU | E34: 322 | F34: =VLOOKUP(E34,Kontod!A:B,2,FALSE) -> Tulud majandustegevusest | G34: 44 | H34: - | I34: AAD_NONE | J34: 01110 | K34: 1 | L34: - | M34: 1000 | N34: 1000 | O34: 1000 | P34: 1000 | R34: Puudub
A35: Riigikogu Kantselei | B35: Riigikogu Kantselei | C35: EA10 | D35: TULU | E35: 323 | F35: =VLOOKUP(E35,Kontod!A:B,2,FALSE) -> Üüri- ja renditulud, õiguste müügitulu, muu toodete ja teenuste müük | G35: 10 | H35: - | I35: AAD_NONE | J35: 01110 | K35: 1 | L35: - | M35: 1000 | N35: 1000 | O35: 1000 | P35: 1000 | R35: Puudub
A36: Riigikogu Kantselei | B36: Riigikogu Kantselei | C36: EA10 | D36: TULU | E36: 388 | F36: =VLOOKUP(E36,Kontod!A:B,2,FALSE) -> Muud tegevustulud | G36: 10 | H36: - | I36: AAD_NONE | J36: 01110 | K36: 1 | L36: - | M36: 150000 | O36: 70000 | R36: Puudub
A37: Riigikogu Kantselei | B37: Erakondade Rahastamise Järelevalve Komisjon | C37: EA30 | D37: KULU | E37: 50 | F37: =VLOOKUP(E37,Kontod!A:B,2,FALSE) -> Tööjõukulud | G37: 20 | H37: - | I37: AAD_NONE | J37: 01110 | K37: 1 | L37: - | M37: 78465 | N37: 78465 | O37: 78465 | P37: 78465 | R37: Puudub
A38: Riigikogu Kantselei | B38: Erakondade Rahastamise Järelevalve Komisjon | C38: EA30 | D38: KULU | E38: 55 | F38: =VLOOKUP(E38,Kontod!A:B,2,FALSE) -> Majandamiskulud | G38: 20 | H38: - | I38: AAD_NONE | J38: 01110 | K38: 1 | L38: - | M38: 84108 | N38: 84108 | O38: 84108 | P38: 84108 | R38: Puudub
A39: Riigikogu Kantselei | B39: Erakondade Rahastamise Järelevalve Komisjon | C39: EA30 | D39: KULU | E39: 61 | F39: =VLOOKUP(E39,Kontod!A:B,2,FALSE) -> Põhivara amortisatsioon ja ümberhindlus | G39: 60 | H39: - | I39: AAD_NONE | J39: 01110 | K39: 1 | L39: - | M39: 4000 | N39: 4000 | O39: 4000 | P39: 4000 | R39: Puudub
A40: Riigikogu Kantselei | B40: Erakondade Rahastamise Järelevalve Komisjon | C40: EA30 | D40: KULU | E40: 601000 | F40: =VLOOKUP(E40,Kontod!A:B,2,FALSE) -> Käibemaksukulu majandamiskuludelt | G40: 10 | H40: - | I40: AAD_NONE | J40: 01110 | K40: 1 | L40: - | M40: 20186 | N40: 20186 | O40: 20186 | P40: 20186 | R40: Puudub
A41: Vabariigi Presidendi Kantselei | B41: Vabariigi Presidendi Kantselei | C41: EB10 | D41: INV | E41: 15 | F41: =VLOOKUP(E41,Kontod!A:B,2,FALSE) -> Investeeringud | G41: 20 | H41: IN001000 | I41: AAD_NONE | J41: 01110 | K41: 1 | L41: - | M41: 10833 | N41: 10833 | O41: 10833 | P41: 10833 | R41: Inventar
A42: Vabariigi Presidendi Kantselei | B42: Vabariigi Presidendi Kantselei | C42: EB10 | D42: INV | E42: 15 | F42: =VLOOKUP(E42,Kontod!A:B,2,FALSE) -> Investeeringud | G42: 20 | H42: IN002000 | I42: AAD_NONE | J42: 01110 | K42: 1 | L42: - | M42: =Lisavahendid!B16 -> 30000 | R42: Inventar
A43: Vabariigi Presidendi Kantselei | B43: Vabariigi Presidendi Kantselei | C43: EB10 | D43: INV | E43: 15 | F43: =VLOOKUP(E43,Kontod!A:B,2,FALSE) -> Investeeringud | G43: 20 | H43: IN002000 | I43: AAD_NONE | J43: 01110 | K43: 6 | L43: - | M43: 15000 | N43: 15000 | O43: 15000 | P43: 15000 | R43: IT investeeringud
A44: Vabariigi Presidendi Kantselei | B44: Vabariigi Presidendi Kantselei | C44: EB10 | D44: KULU | E44: 601002 | F44: =VLOOKUP(E44,Kontod!A:B,2,FALSE) -> Käibemaksukulu põhivara soetuselt | G44: 10 | H44: IN001000 | I44: AAD_NONE | J44: 01110 | K44: 1 | L44: - | M44: 2600 | N44: 2600 | O44: 2600 | P44: 2600 | R44: Inventar
A45: Vabariigi Presidendi Kantselei | B45: Vabariigi Presidendi Kantselei | C45: EB10 | D45: KULU | E45: 601002 | F45: =VLOOKUP(E45,Kontod!A:B,2,FALSE) -> Käibemaksukulu põhivara soetuselt | G45: 10 | H45: IN002000 | I45: AAD_NONE | J45: 01110 | K45: 7 | L45: - | M45: 3600 | N45: 3600 | O45: 3600 | P45: 3600 | R45: IT investeeringud
A46: Vabariigi Presidendi Kantselei | B46: Vabariigi Presidendi Kantselei | C46: EB10 | D46: KULU | E46: 50 | F46: =VLOOKUP(E46,Kontod!A:B,2,FALSE) -> Tööjõukulud | G46: 10 | H46: SEP20002 | I46: AAD_NONE | J46: 01110 | K46: 1 | L46: - | M46: 170083 | N46: 178064 | O46: 185672 | P46: 185672 | R46: Presidendi palgafond
A47: Vabariigi Presidendi Kantselei | B47: Vabariigi Presidendi Kantselei | C47: EB10 | D47: KULU | E47: 50 | F47: =VLOOKUP(E47,Kontod!A:B,2,FALSE) -> Tööjõukulud | G47: 10 | H47: SE000026 | I47: AAD_NONE | J47: 10201 | K47: 1 | L47: - | M47: 335692 | N47: 351442 | O47: 366457 | P47: 366457 | R47: Pensionieraldiste väljamaksed
A48: Vabariigi Presidendi Kantselei | B48: Vabariigi Presidendi Kantselei | C48: EB10 | D48: KULU | E48: 50 | F48: =VLOOKUP(E48,Kontod!A:B,2,FALSE) -> Tööjõukulud | G48: 20 | H48: - | I48: AAD_NONE | J48: 01110 | K48: 1 | L48: - | M48: 2516050 | N48: 2516050 | O48: 2516050 | P48: 2516050 | R48: Puudub
A49: Vabariigi Presidendi Kantselei | B49: Vabariigi Presidendi Kantselei | C49: EB10 | D49: KULU | E49: 50 | F49: =VLOOKUP(E49,Kontod!A:B,2,FALSE) -> Tööjõukulud | G49: 20 | H49: - | I49: AAD_NONE | J49: 01110 | K49: 1 | L49: - | M49: =Lisavahendid!B6 -> 400000 | N49: =Lisavahendid!C6 -> 400000 | O49: =Lisavahendid!D6 -> 400000 | P49: =Lisavahendid!E6 -> 400000 | R49: Puudub
A50: Vabariigi Presidendi Kantselei | B50: Vabariigi Presidendi Kantselei | C50: EB10 | D50: KULU | E50: 55 | F50: =VLOOKUP(E50,Kontod!A:B,2,FALSE) -> Majandamiskulud | G50: 10 | H50: SEP20002 | I50: AAD_NONE | J50: 01110 | K50: 1 | L50: - | M50: 166245 | N50: 174050 | O50: 181486 | P50: 181486 | R50: Presidendi palgafond
A51: Vabariigi Presidendi Kantselei | B51: Vabariigi Presidendi Kantselei | C51: EB10 | D51: KULU | E51: 55 | F51: =VLOOKUP(E51,Kontod!A:B,2,FALSE) -> Majandamiskulud | G51: 20 | H51: - | I51: AAD_NONE | J51: 01110 | K51: 1 | L51: - | M51: 2533309 | N51: 2533309 | O51: 2533309 | P51: 2533309 | R51: Puudub
A52: Vabariigi Presidendi Kantselei | B52: Vabariigi Presidendi Kantselei | C52: EB10 | D52: KULU | E52: 55 | F52: =VLOOKUP(E52,Kontod!A:B,2,FALSE) -> Majandamiskulud | G52: 20 | H52: - | I52: AAD_NONE | J52: 01110 | K52: 1 | L52: - | M52: =Lisavahendid!B12 -> 208000 | N52: =Lisavahendid!C12 -> 208000 | O52: =Lisavahendid!D12 -> 208000 | P52: =Lisavahendid!E12 -> 208000 | R52: Puudub
A53: Vabariigi Presidendi Kantselei | B53: Vabariigi Presidendi Kantselei | C53: EB10 | D53: KULU | E53: 55 | F53: =VLOOKUP(E53,Kontod!A:B,2,FALSE) -> Majandamiskulud | G53: 20 | H53: - | I53: AAD_NONE | J53: 01110 | K53: 4 | L53: - | M53: 74636 | N53: 74636 | O53: 74636 | P53: 74636 | R53: Puudub
A54: Vabariigi Presidendi Kantselei | B54: Vabariigi Presidendi Kantselei | C54: EB10 | D54: KULU | E54: 55 | F54: =VLOOKUP(E54,Kontod!A:B,2,FALSE) -> Majandamiskulud | G54: 20 | H54: - | I54: AAD_NONE | J54: 01110 | K54: 6 | L54: - | M54: -90130 | N54: -90130 | O54: -90130 | P54: -90130 | R54: Puudub
A55: Vabariigi Presidendi Kantselei | B55: Vabariigi Presidendi Kantselei | C55: EB10 | D55: KULU | E55: 55 | F55: =VLOOKUP(E55,Kontod!A:B,2,FALSE) -> Majandamiskulud | G55: 20 | H55: - | I55: AAD_NONE | J55: 01110 | K55: 7 | L55: - | M55: -8450 | N55: -8450 | O55: -8450 | P55: -8450 | R55: Puudub
A56: Vabariigi Presidendi Kantselei | B56: Vabariigi Presidendi Kantselei | C56: EB10 | D56: KULU | E56: 55 | F56: =VLOOKUP(E56,Kontod!A:B,2,FALSE) -> Majandamiskulud | G56: 20 | H56: SE000028 | I56: AAD_NONE | J56: 01110 | K56: 1 | L56: - | M56: 39828 | N56: 39828 | O56: 39828 | P56: 39828 | R56: Vahendid Riigi Kinnisvara Aktsiaseltsile
A57: Vabariigi Presidendi Kantselei | B57: Vabariigi Presidendi Kantselei | C57: EB10 | D57: KULU | E57: 55 | F57: =VLOOKUP(E57,Kontod!A:B,2,FALSE) -> Majandamiskulud | G57: 44 | H57: - | I57: AAD_NONE | J57: 01110 | K57: 1 | L57: - | M57: 34000 | N57: 34000 | O57: 34000 | P57: 34000 | R57: Puudub
A58: Vabariigi Presidendi Kantselei | B58: Vabariigi Presidendi Kantselei | C58: EB10 | D58: KULU | E58: 61 | F58: =VLOOKUP(E58,Kontod!A:B,2,FALSE) -> Põhivara amortisatsioon ja ümberhindlus | G58: 60 | H58: - | I58: AAD_NONE | J58: 01110 | K58: 1 | L58: - | M58: 167000 | N58: 167000 | O58: 167000 | P58: 167000 | R58: Puudub
A59: Vabariigi Presidendi Kantselei | B59: Vabariigi Presidendi Kantselei | C59: EB10 | D59: KULU | E59: 450 | F59: =VLOOKUP(E59,Kontod!A:B,2,FALSE) -> Muud toetused | G59: 20 | H59: - | I59: AAD_NONE | J59: 01110 | K59: 1 | L59: - | M59: 274066 | N59: 274066 | O59: 274066 | P59: 274066 | R59: Puudub
A60: Vabariigi Presidendi Kantselei | B60: Vabariigi Presidendi Kantselei | C60: EB10 | D60: KULU | E60: 450 | F60: =VLOOKUP(E60,Kontod!A:B,2,FALSE) -> Muud toetused | G60: 20 | H60: - | I60: AAD_NONE | J60: 08600 | K60: 1 | L60: - | M60: 44325 | N60: 44325 | O60: 44325 | P60: 44325 | R60: Puudub
A61: Vabariigi Presidendi Kantselei | B61: Vabariigi Presidendi Kantselei | C61: EB10 | D61: KULU | E61: 601000 | F61: =VLOOKUP(E61,Kontod!A:B,2,FALSE) -> Käibemaksukulu majandamiskuludelt | G61: 10 | H61: - | I61: AAD_NONE | J61: 01110 | K61: 1 | L61: - | M61: 449015 | N61: 449015 | O61: 449015 | P61: 449015 | R61: Puudub
A62: Vabariigi Presidendi Kantselei | B62: Vabariigi Presidendi Kantselei | C62: EB10 | D62: TULU | E62: 3229 | F62: =VLOOKUP(E62,Kontod!A:B,2,FALSE) -> Tulud majandustegevusest | G62: 44 | H62: - | I62: AAD_NONE | J62: 01110 | K62: 1 | L62: - | M62: 34000 | N62: 34000 | O62: 34000 | P62: 34000 | R62: Puudub
A63: Riigikontroll | B63: Riigikontroll | C63: EC10 | D63: KULU | E63: 50 | F63: =VLOOKUP(E63,Kontod!A:B,2,FALSE) -> Tööjõukulud | G63: 10 | H63: SEP30001 | I63: AAD_NONE | J63: 01110 | K63: 1 | L63: - | M63: 144571 | N63: 151355 | O63: 157821 | P63: 157821 | R63: Riigikontrolöri palgafond
A64: Riigikontroll | B64: Riigikontroll | C64: EC10 | D64: KULU | E64: 50 | F64: =VLOOKUP(E64,Kontod!A:B,2,FALSE) -> Tööjõukulud | G64: 20 | H64: - | I64: AAD_NONE | J64: 01110 | K64: 1 | L64: - | M64: 4247000 | N64: 4247000 | O64: 4247000 | P64: 4247000 | R64: Puudub
A65: Riigikontroll | B65: Riigikontroll | C65: EC10 | D65: KULU | E65: 50 | F65: =VLOOKUP(E65,Kontod!A:B,2,FALSE) -> Tööjõukulud | G65: 20 | H65: - | I65: AAD_NONE | J65: 01110 | K65: 1 | L65: - | M65: =Lisavahendid!B19 -> 120000 | N65: =Lisavahendid!C19 -> 120000 | O65: =Lisavahendid!D19 -> 120000 | P65: =Lisavahendid!E19 -> 120000 | R65: Puudub
A66: Riigikontroll | B66: Riigikontroll | C66: EC10 | D66: KULU | E66: 55 | F66: =VLOOKUP(E66,Kontod!A:B,2,FALSE) -> Majandamiskulud | G66: 10 | H66: SEP30001 | I66: AAD_NONE | J66: 01110 | K66: 1 | L66: - | M66: 21740 | N66: 22760 | O66: 23733 | P66: 23733 | R66: Riigikontrolöri palgafond
A67: Riigikontroll | B67: Riigikontroll | C67: EC10 | D67: KULU | E67: 55 | F67: =VLOOKUP(E67,Kontod!A:B,2,FALSE) -> Majandamiskulud | G67: 20 | H67: - | I67: AAD_NONE | J67: 01110 | K67: 1 | L67: - | M67: 628849 | N67: 628849 | O67: 628849 | P67: 628849 | R67: Puudub
A68: Riigikontroll | B68: Riigikontroll | C68: EC10 | D68: KULU | E68: 55 | F68: =VLOOKUP(E68,Kontod!A:B,2,FALSE) -> Majandamiskulud | G68: 20 | H68: - | I68: AAD_NONE | J68: 01110 | K68: 2 | L68: - | M68: 554980 | N68: 554980 | O68: 554980 | P68: 554980 | R68: Puudub
A69: Riigikontroll | B69: Riigikontroll | C69: EC10 | D69: KULU | E69: 55 | F69: =VLOOKUP(E69,Kontod!A:B,2,FALSE) -> Majandamiskulud | G69: 20 | H69: - | I69: AAD_NONE | J69: 01110 | K69: 2 | L69: - | M69: =Lisavahendid!B20 -> 98000 | N69: =Lisavahendid!C20 -> 98000 | O69: =Lisavahendid!D20 -> 98000 | P69: =Lisavahendid!E20 -> 98000 | R69: Puudub
A70: Riigikontroll | B70: Riigikontroll | C70: EC10 | D70: KULU | E70: 55 | F70: =VLOOKUP(E70,Kontod!A:B,2,FALSE) -> Majandamiskulud | G70: 20 | H70: SE000028 | I70: AAD_NONE | J70: 01110 | K70: 1 | L70: - | M70: 670354 | N70: 670354 | O70: 670354 | P70: 670354 | R70: Vahendid Riigi Kinnisvara Aktsiaseltsile
A71: Riigikontroll | B71: Riigikontroll | C71: EC10 | D71: KULU | E71: 55 | F71: =VLOOKUP(E71,Kontod!A:B,2,FALSE) -> Majandamiskulud | G71: 20 | H71: SE000028 | I71: AAD_NONE | J71: 01110 | K71: 2 | L71: - | M71: -407658 | N71: -407658 | O71: -407658 | P71: -407658 | R71: Vahendid Riigi Kinnisvara Aktsiaseltsile
A72: Riigikontroll | B72: Riigikontroll | C72: EC10 | D72: KULU | E72: 61 | F72: =VLOOKUP(E72,Kontod!A:B,2,FALSE) -> Põhivara amortisatsioon ja ümberhindlus | G72: 60 | H72: - | I72: AAD_NONE | J72: 01110 | K72: 1 | L72: - | M72: 92000 | N72: 30000 | O72: 17000 | P72: 6000 | R72: Puudub
A73: Riigikontroll | B73: Riigikontroll | C73: EC10 | D73: KULU | E73: 601000 | F73: =VLOOKUP(E73,Kontod!A:B,2,FALSE) -> Käibemaksukulu majandamiskuludelt | G73: 10 | H73: - | I73: AAD_NONE | J73: 10201 | K73: 1 | L73: - | M73: 282000 | N73: 282000 | O73: 282000 | P73: 282000 | R73: Puudub
A74: Õiguskantsleri Kantselei | B74: Õiguskantsleri Kantselei | C74: ED10 | D74: KULU | E74: 50 | F74: =VLOOKUP(E74,Kontod!A:B,2,FALSE) -> Tööjõukulud | G74: 10 | H74: SEP40001 | I74: AAD_NONE | J74: 01110 | K74: 1 | L74: - | M74: 144571 | N74: 151355 | O74: 237535 | P74: 237535 | R74: Õiguskantsleri palgafond
A75: Õiguskantsleri Kantselei | B75: Õiguskantsleri Kantselei | C75: ED10 | D75: KULU | E75: 50 | F75: =VLOOKUP(E75,Kontod!A:B,2,FALSE) -> Tööjõukulud | G75: 20 | H75: - | I75: AAD_NONE | J75: 01110 | K75: 1 | L75: - | M75: 2578000 | N75: 2578000 | O75: 2578000 | P75: 2578000 | R75: Puudub
A76: Õiguskantsleri Kantselei | B76: Õiguskantsleri Kantselei | C76: ED10 | D76: KULU | E76: 50 | F76: =VLOOKUP(E76,Kontod!A:B,2,FALSE) -> Tööjõukulud | G76: 20 | H76: - | I76: AAD_NONE | J76: 01110 | K76: 1 | L76: - | M76: =Lisavahendid!B29 -> 220000 | N76: =Lisavahendid!C29 -> 220000 | O76: =Lisavahendid!D29 -> 220000 | P76: =Lisavahendid!E29 -> 220000 | R76: Puudub
A77: Õiguskantsleri Kantselei | B77: Õiguskantsleri Kantselei | C77: ED10 | D77: KULU | E77: 55 | F77: =VLOOKUP(E77,Kontod!A:B,2,FALSE) -> Majandamiskulud | G77: 10 | H77: SEP40001 | I77: AAD_NONE | J77: 01110 | K77: 1 | L77: - | M77: 21740 | N77: 22760 | O77: 23733 | P77: 23733 | R77: Õiguskantsleri palgafond
A78: Õiguskantsleri Kantselei | B78: Õiguskantsleri Kantselei | C78: ED10 | D78: KULU | E78: 55 | F78: =VLOOKUP(E78,Kontod!A:B,2,FALSE) -> Majandamiskulud | G78: 20 | H78: - | I78: AAD_NONE | J78: 01110 | K78: 1 | L78: - | M78: 644441 | N78: 644441 | O78: 644441 | P78: 644441 | R78: Puudub
A79: Õiguskantsleri Kantselei | B79: Õiguskantsleri Kantselei | C79: ED10 | D79: KULU | E79: 55 | F79: =VLOOKUP(E79,Kontod!A:B,2,FALSE) -> Majandamiskulud | G79: 20 | H79: SE000028 | I79: AAD_NONE | J79: 01110 | K79: 1 | L79: - | M79: 117524 | N79: 117524 | O79: 117524 | P79: 117524 | R79: Vahendid Riigi Kinnisvara Aktsiaseltsile
A80: Õiguskantsleri Kantselei | B80: Õiguskantsleri Kantselei | C80: ED10 | D80: KULU | E80: 452 | F80: =VLOOKUP(E80,Kontod!A:B,2,FALSE) -> Muud toetused | G80: 20 | H80: SE000003 | I80: AAD_NONE | J80: 01110 | K80: 1 | L80: - | M80: 11350 | N80: 11350 | O80: 11350 | P80: 11350 | R80: Liikmemaksud
A81: Õiguskantsleri Kantselei | B81: Õiguskantsleri Kantselei | C81: ED10 | D81: KULU | E81: 601000 | F81: =VLOOKUP(E81,Kontod!A:B,2,FALSE) -> Käibemaksukulu majandamiskuludelt | G81: 10 | H81: - | I81: AAD_NONE | J81: 01110 | K81: 1 | L81: - | M81: 140878 | N81: 140878 | O81: 140878 | P81: 140878 | R81: Puudub
A82: Riigikohus | B82: Riigikohus | C82: EE10 | D82: KULU | E82: 50 | F82: =VLOOKUP(E82,Kontod!A:B,2,FALSE) -> Tööjõukulud | G82: 10 | H82: SEP50001 | I82: AAD_NONE | J82: 03300 | K82: 1 | L82: - | M82: 2533810 | N82: 2890066 | O82: 3097474 | P82: 3097474 | R82: Kohtunike palgafond
A83: Riigikohus | B83: Riigikohus | C83: EE10 | D83: KULU | E83: 50 | F83: =VLOOKUP(E83,Kontod!A:B,2,FALSE) -> Tööjõukulud | G83: 20 | H83: - | I83: AAD_NONE | J83: 03300 | K83: 1 | L83: - | M83: 3821511 | N83: 3821511 | O83: 3821511 | P83: 3821511 | R83: Puudub
A84: Riigikohus | B84: Riigikohus | C84: EE10 | D84: KULU | E84: 50 | F84: =VLOOKUP(E84,Kontod!A:B,2,FALSE) -> Tööjõukulud | G84: 20 | H84: - | I84: AAD_NONE | J84: 03300 | K84: 1 | L84: - | M84: =Lisavahendid!B23 -> 115000 | N84: =Lisavahendid!C23 -> 115000 | O84: =Lisavahendid!D23 -> 115000 | P84: =Lisavahendid!E23 -> 115000 | R84: Puudub
A85: Riigikohus | B85: Riigikohus | C85: EE10 | D85: KULU | E85: 55 | F85: =VLOOKUP(E85,Kontod!A:B,2,FALSE) -> Majandamiskulud | G85: 10 | H85: SEP50001 | I85: AAD_NONE | J85: 03300 | K85: 1 | L85: - | M85: 25576 | N85: 26777 | O85: 27921 | P85: 27921 | R85: Kohtunike palgafond
A86: Riigikohus | B86: Riigikohus | C86: EE10 | D86: KULU | E86: 55 | F86: =VLOOKUP(E86,Kontod!A:B,2,FALSE) -> Majandamiskulud | G86: 20 | H86: - | I86: AAD_NONE | J86: 03300 | K86: 1 | L86: - | M86: 921476 | N86: 733163 | O86: 736363 | P86: 736363 | R86: Puudub
A87: Riigikohus | B87: Riigikohus | C87: EE10 | D87: KULU | E87: 55 | F87: =VLOOKUP(E87,Kontod!A:B,2,FALSE) -> Majandamiskulud | G87: 20 | H87: - | I87: AAD_NONE | J87: 03300 | K87: 1 | L87: - | M87: =Lisavahendid!B24 -> 115000 | N87: =Lisavahendid!C24 -> 20000 | O87: =Lisavahendid!D24 -> 20000 | P87: =Lisavahendid!E24 -> 20000 | R87: Puudub
A88: Riigikohus | B88: Riigikohus | C88: EE10 | D88: KULU | E88: 55 | F88: =VLOOKUP(E88,Kontod!A:B,2,FALSE) -> Majandamiskulud | G88: 20 | H88: SE000028 | I88: AAD_NONE | J88: 03300 | K88: 1 | L88: - | M88: 2759 | N88: 2759 | O88: 2759 | P88: 2759 | R88: Vahendid Riigi Kinnisvara Aktsiaseltsile
A89: Riigikohus | B89: Riigikohus | C89: EE10 | D89: KULU | E89: 55 | F89: =VLOOKUP(E89,Kontod!A:B,2,FALSE) -> Majandamiskulud | G89: 40 | H89: - | I89: AAD_NONE | J89: 03300 | K89: 1 | L89: 9E10-IS21-01332SIM | M89: 22184 | N89: 22184 | R89: Puudub
A90: Riigikohus | B90: Riigikohus | C90: EE10 | D90: KULU | E90: 55 | F90: =VLOOKUP(E90,Kontod!A:B,2,FALSE) -> Majandamiskulud | G90: 40 | H90: - | I90: AAD_NONE | J90: 03300 | K90: 2 | L90: 9E10-AM21-01133CEAS | M90: 64858 | N90: 64917 | O90: 60688 | R90: Puudub
A91: Riigikohus | B91: Riigikohus | C91: EE10 | D91: KULU | E91: 55 | F91: =VLOOKUP(E91,Kontod!A:B,2,FALSE) -> Majandamiskulud | G91: 40 | H91: - | I91: AAD_NONE | J91: 03300 | K91: 3 | L91: 9E10-MU21-JUST-JCOO | M91: 34844 | R91: Puudub
A92: Riigikohus | B92: Riigikohus | C92: EE10 | D92: KULU | E92: 55 | F92: =VLOOKUP(E92,Kontod!A:B,2,FALSE) -> Majandamiskulud | G92: 40 | H92: - | I92: AAD_NONE | J92: 03300 | K92: 4 | L92: 1E10-SF21-04742NOOR | M92: 20000 | N92: 20000 | O92: 18000 | R92: Puudub
A93: Riigikohus | B93: Riigikohus | C93: EE10 | D93: KULU | E93: 55 | F93: =VLOOKUP(E93,Kontod!A:B,2,FALSE) -> Majandamiskulud | G93: 44 | H93: - | I93: AAD_NONE | J93: 03300 | K93: 1 | L93: - | M93: 4800 | N93: 4800 | O93: 4800 | P93: 4800 | R93: Puudub
A94: Riigikohus | B94: Riigikohus | C94: EE10 | D94: KULU | E94: 61 | F94: =VLOOKUP(E94,Kontod!A:B,2,FALSE) -> Põhivara amortisatsioon ja ümberhindlus | G94: 60 | H94: - | I94: AAD_NONE | J94: 03300 | K94: 1 | L94: - | M94: 211000 | N94: 211000 | O94: 211000 | P94: 211000 | R94: Puudub
A95: Riigikohus | B95: Riigikohus | C95: EE10 | D95: TULU | E95: 359 | F95: =VLOOKUP(E95,Kontod!A:B,2,FALSE) -> Saadud välistoetus | G95: 40 | H95: - | I95: AAD_NONE | J95: 03300 | K95: 1 | L95: 9E10-IS21-01332SIM | M95: 16638 | N95: 16638 | R95: Puudub
A96: Riigikohus | B96: Riigikohus | C96: EE10 | D96: TULU | E96: 359 | F96: =VLOOKUP(E96,Kontod!A:B,2,FALSE) -> Saadud välistoetus | G96: 40 | H96: - | I96: AAD_NONE | J96: 03300 | K96: 2 | L96: 9E10-AM21-01133CEAS | M96: 58372 | N96: 58426 | O96: 54619 | R96: Puudub
A97: Riigikohus | B97: Riigikohus | C97: EE10 | D97: TULU | E97: 359 | F97: =VLOOKUP(E97,Kontod!A:B,2,FALSE) -> Saadud välistoetus | G97: 40 | H97: - | I97: AAD_NONE | J97: 03300 | K97: 3 | L97: 9E10-MU21-JUST-JCOO | M97: 34844 | R97: Puudub
A98: Riigikohus | B98: Riigikohus | C98: EE10 | D98: TULU | E98: 359 | F98: =VLOOKUP(E98,Kontod!A:B,2,FALSE) -> Saadud välistoetus | G98: 40 | H98: - | I98: AAD_NONE | J98: 03300 | K98: 4 | L98: 1E10-SF21-04742NOOR | M98: 14000 | N98: 14000 | O98: 12600 | R98: Puudub
A99: Riigikohus | B99: Riigikohus | C99: EE10 | D99: KULU | E99: 452 | F99: =VLOOKUP(E99,Kontod!A:B,2,FALSE) -> Muud toetused | G99: 20 | H99: SE000003 | I99: AAD_NONE | J99: 03300 | K99: 1 | L99: - | M99: 10535 | N99: 13735 | O99: 10535 | P99: 10535 | R99: Liikmemaksud
A100: Riigikohus | B100: Riigikohus | C100: EE10 | D100: KULU | E100: 601000 | F100: =VLOOKUP(E100,Kontod!A:B,2,FALSE) -> Käibemaksukulu majandamiskuludelt | G100: 10 | H100: - | I100: AAD_NONE | J100: 03300 | K100: 1 | L100: - | M100: 132594 | N100: 132594 | O100: 132594 | P100: 132594 | R100: Puudub
A101: Riigikohus | B101: Riigikohus | C101: EE10 | D101: TULU | E101: 320 | F101: =VLOOKUP(E101,Kontod!A:B,2,FALSE) -> Riigilõivud | G101: 10 | H101: - | I101: AAD_NONE | J101: 03300 | K101: 1 | L101: - | M101: 310000 | N101: 310000 | O101: 310000 | P101: 310000 | R101: Puudub
...

Sheet Lisavahendid
A1: Lisataotluste koond
B2: 2027 | C2: 2028 | D2: 2029 | E2: 2030
A3: Lisataotlused kokku | B3: 2710000 | C3: 2892500 | D3: 2892500 | E3: 2211000
A5: Vabariigi President | B5: =B6+B12+B15 -> 638000 | C5: =C6+C12+C15 -> 608000 | D5: =D6+D12+D15 -> 608000 | E5: =E6+E12+E15 -> 608000
B6: 400000 | C6: 400000 | D6: 400000 | E6: 400000
A7: VP palgafondi kasv 7% | B7: 173800 | C7: 173800 | D7: 173800 | E7: 173800
A8: Alar Karise personal | B8: 126200 | C8: 126200 | D8: 126200 | E8: 126200
A9: Nõunike täiskohaga töölevõtmine
B10: 100000 | C10: 100000 | D10: 100000 | E10: 100000
A11: Majandamiskulud
B12: 208000 | C12: 208000 | D12: 208000 | E12: 208000
A13: Majandamiskulud | B13: 80000 | C13: 80000 | D13: 80000 | E13: 80000
A14: Alar Karisega seotud majandamiskulud | B14: 128000 | C14: 128000 | D14: 128000 | E14: 128000
A15: Investeeringud | B15: 30000
A16: Riigivõrgu teise õla rajamine | B16: 30000 | C16: 0 | D16: 0 | E16: 0
A18: Riigikontroll | B18: 218000 | C18: 218000 | D18: 218000 | E18: 218000
A19: Tööjõukulud | B19: 120000 | C19: 120000 | D19: 120000 | E19: 120000
A20: Majandamiskulud | B20: 98000 | C20: 98000 | D20: 98000 | E20: 98000
A22: Riigikohus | B22: 230000 | C22: 135000 | D22: 135000 | E22: 135000
A23: Tööjõukulud | B23: 115000 | C23: 115000 | D23: 115000 | E23: 115000
A24: Majandamiskulud | B24: 115000 | C24: 20000 | D24: 20000 | E24: 20000
A25: Kulude kallinemine, baaseelarve suurendamine 5% | B25: 20000 | C25: 20000 | D25: 20000 | E25: 20000
A26: Remonditööd ja rahvusvaheline suhtlus (ühekordne) | B26: 95000 | C26: 0 | D26: 0 | E26: 0
A28: Õiguskantsler | B28: 220000 | C28: 220000 | D28: 220000 | E28: 220000
A29: Tööjõukulud | B29: 220000 | C29: 220000 | D29: 220000 | E29: 220000
A30: 3 koha täitmine – varjatud jälitustegevuse järelevalveks, automaatotsustes kasutatavate algoritmide töökindluse ja õiguspärasuse kontrollimiseks, | B30: 120000 | C30: 120000 | D30: 120000 | E30: 120000
... A42: ERJK infosüsteemi arendamine | B42: 50000 | C42: 0 | D42: 0 | E42: 0

Sheet Kontod
A3: Reasildid
A4: 15 | B4: Investeeringud
A5: 320 | B5: Riigilõivud
A6: 322 | B6: Tulud majandustegevusest
A7: 3229 | B7: Tulud majandustegevusest
A8: 323 | B8: Üüri- ja renditulud, õiguste müügitulu, muu toodete ja teenuste müük
A9: 359 | B9: Saadud välistoetus
A10: 388 | B10: Muud tegevustulud
A11: 41 | B11: Sotsiaaltoetused
A12: 450 | B12: Muud toetused
A13: 452 | B13: Muud toetused
A14: 50 | B14: Tööjõukulud
A15: 55 | B15: Majandamiskulud
... A19: 650 | B19: Intressikulu ja muud finantskulud
A20: Üldkokkuvõte
