Workbook

Sheet KOOND
E1: LISA
A3: Reasildid | B3: Summa kogusummast 2027 | C3: Summa kogusummast 2028 | D3: Summa kogusummast 2029 | E3: Summa kogusummast 2030
A4: Riigikogu Kantselei | B4: 47670318 | C4: 42549827 | D4: 43442525 | E4: 43479884
A5: INV | B5: 3351032 | C5: 2924680 | D5: 2924680 | E5: 2243180
A6: Investeeringud | B6: 3351032 | C6: 2924680 | D6: 2924680 | E6: 2243180
A7: KULU | B7: 44167286 | C7: 39623147 | D7: 40445845 | E7: 41234704
A8: Intressikulu ja muud finantskulud | C8: 100000 | D8: 100000 | E8: 100000
A9: Käibemaksukulu majandamiskuludelt | B9: 1182898 | C9: 1157634 | D9: 1165123 | E9: 1172385
A10: Käibemaksukulu põhivara soetuselt | B10: 294488 | C10: 125563 | D10: 125563 | E10: 125563
A11: Majandamiskulud | B11: 9252847 | C11: 9328101 | D11: 9465587 | E11: 9598901
A12: Muud toetused | B12: 2848000 | C12: 168000 | D12: 168000 | E12: 168000
A13: Põhivara amortisatsioon ja ümberhindlus | B13: 2998498 | C13: 3215685 | D13: 3343152 | E13: 3457873
A14: Sotsiaaltoetused | B14: 3000 | C14: 3000 | D14: 3000 | E14: 3000
A15: Tööjõukulud | B15: 27587555 | C15: 25525164 | D15: 26075420 | E15: 26608982
A16: TULU | B16: 152000 | C16: 2000 | D16: 72000 | E16: 2000
A17: Muud tegevustulud | B17: 150000 | D17: 70000
A18: Tulud majandustegevusest | B18: 1000 | C18: 1000 | D18: 1000 | E18: 1000
A19: Üüri- ja renditulud, õiguste müügitulu, muu toodete ja teenuste müük | B19: 1000 | C19: 1000 | D19: 1000 | E19: 1000
A20: Riigikohus | B20: 8474601 | C20: 8482370 | D20: 8640664 | E20: 8494757
A21: KULU | B21: 8035947 | C21: 8078506 | D21: 8258645 | E21: 8179957
A22: Käibemaksukulu majandamiskuludelt | B22: 132594 | C22: 132594 | D22: 132594 | E22: 132594
A23: Majandamiskulud | B23: 1211497 | C23: 894600 | D23: 870531 | E23: 791843
A24: Muud toetused | B24: 10535 | C24: 13735 | D24: 10535 | E24: 10535
A25: Põhivara amortisatsioon ja ümberhindlus | B25: 211000 | C25: 211000 | D25: 211000 | E25: 211000
A26: Tööjõukulud | B26: 6470321 | C26: 6826577 | D26: 7033985 | E26: 7033985
A27: TULU | B27: 438654 | C27: 403864 | D27: 382019 | E27: 314800
A28: Riigilõivud | B28: 310000 | C28: 310000 | D28: 310000 | E28: 310000
A29: Saadud välistoetus | B29: 123854 | C29: 89064 | D29: 67219
A30: Tulud majandustegevusest | B30: 4800 | C30: 4800 | D30: 4800 | E30: 4800
A31: Riigikontroll | B31: 6451836 | C31: 6397640 | D31: 6392079 | E31: 6381079
A32: KULU | B32: 6451836 | C32: 6397640 | D32: 6392079 | E32: 6381079
A33: Käibemaksukulu majandamiskuludelt | B33: 282000 | C33: 282000 | D33: 282000 | E33: 282000
A34: Majandamiskulud | B34: 1566265 | C34: 1567285 | D34: 1568258 | E34: 1568258
A35: Põhivara amortisatsioon ja ümberhindlus | B35: 92000 | C35: 30000 | D35: 17000 | E35: 6000
A36: Tööjõukulud | B36: 4511571 | C36: 4518355 | D36: 4524821 | E36: 4524821
A37: Vabariigi Presidendi Kantselei | B37: 7409702 | C37: 7411238 | D37: 7441297 | E37: 7441297
A38: INV | B38: 55833 | C38: 25833 | D38: 25833 | E38: 25833
A39: Investeeringud | B39: 55833 | C39: 25833 | D39: 25833 | E39: 25833
A40: KULU | B40: 7319869 | C40: 7351405 | D40: 7381464 | E40: 7381464
A41: Käibemaksukulu majandamiskuludelt | B41: 449015 | C41: 449015 | D41: 449015 | E41: 449015
...

Sheet Alusandmed
A1: Aruanne asutuste lõikes - sisestatud detailread - koondosa näitab filtris valitud asutust või valitsemisala (vastavalt tehtud valikule) kokku | R1: Riigi eelarvestrateegia 2027-2030 | U1: INPUT - Data Input,ALLOCATIONS - Allocations
A2: Põhiseaduslikud institutsioonid | R2: Viimati värskendatud: 09.09.2026 18:11:42 kasutaja kairite poolt | U2: RES
U3: 2027
U4: Riigi eelarvestrateegia
L5: Subtotal valemiga tehtud kogusumma rida: | M5: 214298193 | N5: 197504649 | O5: 200992578 | P5: 202678434 | U5: 2030
A7: Valitsemisala | B7: Asutus | C7: Funds center | D7: Majanduslik sisu | E7: Konto | F7: Konto_2 | G7: Liik | H7: Objekt | I7: Tehinu-partneri kood | J7: COFOG | K7: Selgituse nr | L7: Grant | M7: 2027 | N7: 2028 | O7: 2029 | P7: 2030 | Q7: Selgitus | R7: Objektikoodi nimetus | U7: 2027-2030
A8: Riigikogu Kantselei | B8: Riigikogu Kantselei | C8: EA10 | D8: INV | E8: 15 | F8: =VLOOKUP(E8,Kontod!A:B,2,FALSE) -> Investeeringud | G8: 20 | H8: IN002000 | I8: AAD_NONE | J8: 01110 | K8: 1 | L8: - | M8: 438560 | N8: 338560 | O8: 338560 | P8: 338560 | R8: IT investeeringud
A9: Riigikogu Kantselei | B9: Riigikogu Kantselei | C9: EA10 | D9: INV | E9: 15 | F9: =VLOOKUP(E9,Kontod!A:B,2,FALSE) -> Investeeringud | G9: 20 | H9: IN002000 | I9: AAD_NONE | J9: 01110 | K9: 2 | L9: - | M9: 144620 | N9: 144620 | O9: 144620 | P9: 144620 | R9: IT investeeringud
A10: Riigikogu Kantselei | B10: Riigikogu Kantselei | C10: EA10 | D10: INV | E10: 15 | F10: =VLOOKUP(E10,Kontod!A:B,2,FALSE) -> Investeeringud | G10: 20 | H10: IN002000 | I10: AAD_NONE | J10: 01110 | K10: 3 | L10: - | M10: 603852 | N10: 0 | R10: IT investeeringud
A11: Riigikogu Kantselei | B11: Riigikogu Kantselei | C11: EA10 | D11: INV | E11: 15 | F11: =VLOOKUP(E11,Kontod!A:B,2,FALSE) -> Investeeringud | G11: 20 | H11: IN004000 | I11: AAD_NONE | J11: 01110 | K11: 1 | L11: - | M11: 40000 | N11: 40000 | O11: 40000 | P11: 40000 | R11: Masinad ja seadmed
A12: Riigikogu Kantselei | B12: Riigikogu Kantselei | C12: EA10 | D12: INV | E12: 15 | F12: =VLOOKUP(E12,Kontod!A:B,2,FALSE) -> Investeeringud | G12: 20 | H12: IN002007 | I12: AAD_NONE | J12: 01110 | K12: 1 | L12: - | M12: 1720000 | N12: 1720000 | O12: 1720000 | P12: 1720000 | R12: Riigi valimisteenistuse IT Investeering
A13: Riigikogu Kantselei | B13: Riigikogu Kantselei | C13: EA10 | D13: INV | E13: 15 | F13: =VLOOKUP(E13,Kontod!A:B,2,FALSE) -> Investeeringud | G13: 20 | H13: ??? | I13: AAD_NONE | J13: 01110 | K13: 1 | L13: - | M13: =Lisavahendid!B40 -> 404000 | N13: =Lisavahendid!C40 -> 681500 | O13: =Lisavahendid!D40 -> 681500 | P13: =Lisavahendid!E40 -> 0 | R13: Riigi valimisteenistuse IT Investeering
A14: Riigikogu Kantselei | B14: Riigikogu Kantselei | C14: EA10 | D14: KULU | E14: 601002 | F14: =VLOOKUP(E14,Kontod!A:B,2,FALSE) -> Käibemaksukulu põhivara soetuselt | G14: 10 | H14: - | I14: AAD_NONE | J14: 01110 | K14: 1 | L14: - | M14: 294488 | N14: 125563 | O14: 125563 | P14: 125563 | R14: Puudub
A15: Riigikogu Kantselei | B15: Riigikogu Kantselei | C15: EA10 | D15: KULU | E15: 41 | F15: =VLOOKUP(E15,Kontod!A:B,2,FALSE) -> Sotsiaaltoetused | G15: 20 | H15: - | I15: AAD_NONE | J15: 10800 | K15: 1 | L15: - | M15: 3000 | N15: 3000 | O15: 3000 | P15: 3000 | R15: Puudub
A16: Riigikogu Kantselei | B16: Riigikogu Kantselei | C16: EA10 | D16: KULU | E16: 50 | F16: =VLOOKUP(E16,Kontod!A:B,2,FALSE) -> Tööjõukulud | G16: 10 | H16: SEP10002 | I16: AAD_NONE | J16: 01110 | K16: 1 | L16: - | M16: 15025112 | N16: 12962721 | O16: 13512977 | P16: 14046539 | R16: Riigikogu liikmete palgafond
A17: Riigikogu Kantselei | B17: Riigikogu Kantselei | C17: EA10 | D17: KULU | E17: 50 | F17: =VLOOKUP(E17,Kontod!A:B,2,FALSE) -> Tööjõukulud | G17: 20 | H17: - | I17: AAD_NONE | J17: 01110 | K17: 1 | L17: - | M17: 10257818 | N17: 10257818 | O17: 10257818 | P17: 10257818 | R17: Puudub
A18: Riigikogu Kantselei | B18: Riigikogu Kantselei | C18: EA10 | D18: KULU | E18: 50 | F18: =VLOOKUP(E18,Kontod!A:B,2,FALSE) -> Tööjõukulud | G18: 20 | H18: - | I18: AAD_NONE | J18: 01110 | K18: 1 | L18: - | M18: =Lisavahendid!B34 -> 780000 | N18: =Lisavahendid!C34 -> 780000 | O18: =Lisavahendid!D34 -> 780000 | P18: =Lisavahendid!E34 -> 780000 | R18: Puudub
A19: Riigikogu Kantselei | B19: Riigikogu Kantselei | C19: EA10 | D19: KULU | E19: 50 | F19: =VLOOKUP(E19,Kontod!A:B,2,FALSE) -> Tööjõukulud | G19: 20 | H19: SEP10006 | I19: AAD_NONE | J19: 01110 | K19: 2 | L19: - | M19: 852400 | N19: 852400 | O19: 852400 | P19: 852400 | R19: Riigi valimisteenistus
A20: Riigikogu Kantselei | B20: Riigikogu Kantselei | C20: EA10 | D20: KULU | E20: 50 | F20: =VLOOKUP(E20,Kontod!A:B,2,FALSE) -> Tööjõukulud | G20: 20 | H20: SEP10007 | I20: AAD_NONE | J20: 01110 | K20: 2 | L20: - | M20: 593760 | N20: 593760 | O20: 593760 | P20: 593760 | R20: Arenguseire Keskus
A21: Riigikogu Kantselei | B21: Riigikogu Kantselei | C21: EA10 | D21: KULU | E21: 55 | F21: =VLOOKUP(E21,Kontod!A:B,2,FALSE) -> Majandamiskulud | G21: 20 | H21: - | I21: AAD_NONE | J21: 01110 | K21: 1 | L21: - | M21: 2933828 | N21: 3041767 | O21: 3041767 | P21: 3041767 | R21: Puudub
A22: Riigikogu Kantselei | B22: Riigikogu Kantselei | C22: EA10 | D22: KULU | E22: 55 | F22: =VLOOKUP(E22,Kontod!A:B,2,FALSE) -> Majandamiskulud | G22: 20 | H22: - | I22: AAD_NONE | J22: 01110 | K22: 2 | L22: - | M22: 3369718 | N22: 3612033 | O22: 3749519 | P22: 3882833 | R22: Puudub
A23: Riigikogu Kantselei | B23: Riigikogu Kantselei | C23: EA10 | D23: KULU | E23: 55 | F23: =VLOOKUP(E23,Kontod!A:B,2,FALSE) -> Majandamiskulud | G23: 20 | H23: - | I23: AAD_NONE | J23: 01110 | K23: 2 | L23: - | M23: =Lisavahendid!B38 -> 250000 | N23: =Lisavahendid!C38 -> 250000 | O23: =Lisavahendid!D38 -> 250000 | P23: =Lisavahendid!E38 -> 250000 | R23: Puudub
A24: Riigikogu Kantselei | B24: Riigikogu Kantselei | C24: EA10 | D24: KULU | E24: 55 | F24: =VLOOKUP(E24,Kontod!A:B,2,FALSE) -> Majandamiskulud | G24: 20 | H24: SEP10006 | I24: AAD_NONE | J24: 01110 | K24: 1 | L24: - | M24: 981860 | N24: 706860 | O24: 706860 | P24: 706860 | R24: Riigi valimisteenistus
A25: Riigikogu Kantselei | B25: Riigikogu Kantselei | C25: EA10 | D25: KULU | E25: 55 | F25: =VLOOKUP(E25,Kontod!A:B,2,FALSE) -> Majandamiskulud | G25: 20 | H25: SEP10007 | I25: AAD_NONE | J25: 01110 | K25: 1 | L25: - | M25: 226902 | N25: 226902 | O25: 226902 | P25: 226902 | R25: Arenguseire Keskus
A26: Riigikogu Kantselei | B26: Riigikogu Kantselei | C26: EA10 | D26: KULU | E26: 55 | F26: =VLOOKUP(E26,Kontod!A:B,2,FALSE) -> Majandamiskulud | G26: 20 | H26: SE000047 | I26: AAD_NONE | J26: 01110 | K26: 1 | L26: - | M26: 1405431 | N26: 1405431 | O26: 1405431 | P26: 1405431 | R26: Riigi valimisteenistuse IT tegevuskulud
A27: Riigikogu Kantselei | B27: Riigikogu Kantselei | C27: EA10 | D27: KULU | E27: 55 | F27: =VLOOKUP(E27,Kontod!A:B,2,FALSE) -> Majandamiskulud | G27: 44 | H27: - | I27: AAD_NONE | J27: 01110 | K27: 1 | L27: - | M27: 1000 | N27: 1000 | O27: 1000 | P27: 1000 | R27: Puudub
A28: Riigikogu Kantselei | B28: Riigikogu Kantselei | C28: EA10 | D28: KULU | E28: 61 | F28: =VLOOKUP(E28,Kontod!A:B,2,FALSE) -> Põhivara amortisatsioon ja ümberhindlus | G28: 60 | H28: - | I28: AAD_NONE | J28: 01110 | K28: 1 | L28: - | M28: 2994498 | N28: 3211685 | O28: 3339152 | P28: 3453873 | R28: Puudub
A29: Riigikogu Kantselei | B29: Riigikogu Kantselei | C29: EA10 | D29: KULU | E29: 650 | F29: =VLOOKUP(E29,Kontod!A:B,2,FALSE) -> Intressikulu ja muud finantskulud | G29: 10 | H29: - | I29: AAD_NONE | J29: 01110 | K29: 1 | L29: - | N29: 100000 | O29: 100000 | P29: 100000 | R29: Puudub
A30: Riigikogu Kantselei | B30: Riigikogu Kantselei | C30: EA10 | D30: KULU | E30: 450 | F30: =VLOOKUP(E30,Kontod!A:B,2,FALSE) -> Muud toetused | G30: 20 | H30: SEP10001 | I30: AAD_NONE | J30: 01110 | K30: 1 | L30: - | M30: 2680000 | N30: 0 | R30: Valimistega seotud tegevused
A31: Riigikogu Kantselei | B31: Riigikogu Kantselei | C31: EA10 | D31: KULU | E31: 452 | F31: =VLOOKUP(E31,Kontod!A:B,2,FALSE) -> Muud toetused | G31: 20 | H31: SE000003 | I31: AAD_NONE | J31: 01110 | K31: 1 | L31: - | M31: 168000 | N31: 168000 | O31: 168000 | P31: 168000 | R31: Liikmemaksud
A32: Riigikogu Kantselei | B32: Riigikogu Kantselei | C32: EA10 | D32: KULU | E32: 601000 | F32: =VLOOKUP(E32,Kontod!A:B,2,FALSE) -> Käibemaksukulu majandamiskuludelt | G32: 10 | H32: - | I32: AAD_NONE | J32: 01110 | K32: 1 | L32: - | M32: 974322 | N32: 934228 | O32: 934228 | P32: 934228 | R32: Puudub
A33: Riigikogu Kantselei | B33: Riigikogu Kantselei | C33: EA10 | D33: KULU | E33: 601000 | F33: =VLOOKUP(E33,Kontod!A:B,2,FALSE) -> Käibemaksukulu majandamiskuludelt | G33: 10 | H33: - | I33: AAD_NONE | J33: 01110 | K33: 2 | L33: - | M33: 188390 | N33: 203220 | O33: 210709 | P33: 217971 | R33: Puudub
A34: Riigikogu Kantselei | B34: Riigikogu Kantselei | C34: EA10 | D34: TULU | E34: 322 | F34: =VLOOKUP(E34,Kontod!A:B,2,FALSE) -> Tulud majandustegevusest | G34: 44 | H34: - | I34: AAD_NONE | J34: 01110 | K34: 1 | L34: - | M34: 1000 | N34: 1000 | O34: 1000 | P34: 1000 | R34: Puudub
A35: Riigikogu Kantselei | B35: Riigikogu Kantselei | C35: EA10 | D35: TULU | E35: 323 | F35: =VLOOKUP(E35,Kontod!A:B,2,FALSE) -> Üüri- ja renditulud, õiguste müügitulu, muu toodete ja teenuste müük | G35: 10 | H35: - | I35: AAD_NONE | J35: 01110 | K35: 1 | L35: - | M35: 1000 | N35: 1000 | O35: 1000 | P35: 1000 | R35: Puudub
A36: Riigikogu Kantselei | B36: Riigikogu Kantselei | C36: EA10 | D36: TULU | E36: 388 | F36: =VLOOKUP(E36,Kontod!A:B,2,FALSE) -> Muud tegevustulud | G36: 10 | H36: - | I36: AAD_NONE | J36: 01110 | K36: 1 | L36: - | M36: 150000 | O36: 70000 | R36: Puudub
A37: Riigikogu Kantselei | B37: Erakondade Rahastamise Järelevalve Komisjon | C37: EA30 | D37: KULU | E37: 50 | F37: =VLOOKUP(E37,Kontod!A:B,2,FALSE) -> Tööjõukulud | G37: 20 | H37: - | I37: AAD_NONE | J37: 01110 | K37: 1 | L37: - | M37: 78465 | N37: 78465 | O37: 78465 | P37: 78465 | R37: Puudub
A38: Riigikogu Kantselei | B38: Erakondade Rahastamise Järelevalve Komisjon | C38: EA30 | D38: KULU | E38: 55 | F38: =VLOOKUP(E38,Kontod!A:B,2,FALSE) -> Majandamiskulud | G38: 20 | H38: - | I38: AAD_NONE | J38: 01110 | K38: 1 | L38: - | M38: 84108 | N38: 84108 | O38: 84108 | P38: 84108 | R38: Puudub
A39: Riigikogu Kantselei | B39: Erakondade Rahastamise Järelevalve Komisjon | C39: EA30 | D39: KULU | E39: 61 | F39: =VLOOKUP(E39,Kontod!A:B,2,FALSE) -> Põhivara amortisatsioon ja ümberhindlus | G39: 60 | H39: - | I39: AAD_NONE | J39: 01110 | K39: 1 | L39: - | M39: 4000 | N39: 4000 | O39: 4000 | P39: 4000 | R39: Puudub
A40: Riigikogu Kantselei | B40: Erakondade Rahastamise Järelevalve Komisjon | C40: EA30 | D40: KULU | E40: 601000 | F40: =VLOOKUP(E40,Kontod!A:B,2,FALSE) -> Käibemaksukulu majandamiskuludelt | G40: 10 | H40: - | I40: AAD_NONE | J40: 01110 | K40: 1 | L40: - | M40: 20186 | N40: 20186 | O40: 20186 | P40: 20186 | R40: Puudub
A41: Vabariigi Presidendi Kantselei | B41: Vabariigi Presidendi Kantselei | C41: EB10 | D41: INV | E41: 15 | F41: =VLOOKUP(E41,Kontod!A:B,2,FALSE) -> Investeeringud | G41: 20 | H41: IN001000 | I41: AAD_NONE | J41: 01110 | K41: 1 | L41: - | M41: 10833 | N41: 10833 | O41: 10833 | P41: 10833 | R41: Inventar
...

Sheet Lisavahendid
A1: Lisataotluste koond
B2: 2027 | C2: 2028 | D2: 2029 | E2: 2030
A3: Lisataotlused kokku | B3: 2710000 | C3: 2892500 | D3: 2892500 | E3: 2211000
A5: Vabariigi President | B5: =B6+B12+B15 -> 638000 | C5: =C6+C12+C15 -> 608000 | D5: =D6+D12+D15 -> 608000 | E5: =E6+E12+E15 -> 608000
B6: 400000 | C6: 400000 | D6: 400000 | E6: 400000
A7: VP palgafondi kasv 7% | B7: 173800 | C7: 173800 | D7: 173800 | E7: 173800
A8: Alar Karise personal | B8: 126200 | C8: 126200 | D8: 126200 | E8: 126200
A9: Nõunike täiskohaga töölevõtmine
B10: 100000 | C10: 100000 | D10: 100000 | E10: 100000
A11: Majandamiskulud
B12: 208000 | C12: 208000 | D12: 208000 | E12: 208000
A13: Majandamiskulud | B13: 80000 | C13: 80000 | D13: 80000 | E13: 80000
A14: Alar Karisega seotud majandamiskulud | B14: 128000 | C14: 128000 | D14: 128000 | E14: 128000
A15: Investeeringud | B15: 30000
A16: Riigivõrgu teise õla rajamine | B16: 30000 | C16: 0 | D16: 0 | E16: 0
A18: Riigikontroll | B18: 218000 | C18: 218000 | D18: 218000 | E18: 218000
A19: Tööjõukulud | B19: 120000 | C19: 120000 | D19: 120000 | E19: 120000
A20: Majandamiskulud | B20: 98000 | C20: 98000 | D20: 98000 | E20: 98000
A22: Riigikohus | B22: 230000 | C22: 135000 | D22: 135000 | E22: 135000
A23: Tööjõukulud | B23: 115000 | C23: 115000 | D23: 115000 | E23: 115000
A24: Majandamiskulud | B24: 115000 | C24: 20000 | D24: 20000 | E24: 20000
A25: Kulude kallinemine, baaseelarve suurendamine 5% | B25: 20000 | C25: 20000 | D25: 20000 | E25: 20000
A26: Remonditööd ja rahvusvaheline suhtlus (ühekordne) | B26: 95000 | C26: 0 | D26: 0 | E26: 0
A28: Õiguskantsler | B28: 220000 | C28: 220000 | D28: 220000 | E28: 220000
A29: Tööjõukulud | B29: 220000 | C29: 220000 | D29: 220000 | E29: 220000
A30: 3 koha täitmine – varjatud jälitustegevuse järelevalveks, automaatotsustes kasutatavate algoritmide töökindluse ja õiguspärasuse kontrollimiseks, | B30: 120000 | C30: 120000 | D30: 120000 | E30: 120000
... A42: ERJK infosüsteemi arendamine | B42: 50000 | C42: 0 | D42: 0 | E42: 0

Sheet Kontod
A3: Reasildid
A4: 15 | B4: Investeeringud
A5: 320 | B5: Riigilõivud
A6: 322 | B6: Tulud majandustegevusest
A7: 3229 | B7: Tulud majandustegevusest
A8: 323 | B8: Üüri- ja renditulud, õiguste müügitulu, muu toodete ja teenuste müük
A9: 359 | B9: Saadud välistoetus
A10: 388 | B10: Muud tegevustulud
A11: 41 | B11: Sotsiaaltoetused
A12: 450 | B12: Muud toetused
A13: 452 | B13: Muud toetused
A14: 50 | B14: Tööjõukulud
A15: 55 | B15: Majandamiskulud
... A19: 650 | B19: Intressikulu ja muud finantskulud
A20: Üldkokkuvõte
