BEGIN:VCALENDAR
METHOD:REQUEST
PRODID:Microsoft Exchange Server 2010
VERSION:2.0
BEGIN:VTIMEZONE
TZID:FLE Standard Time
BEGIN:STANDARD
DTSTART:16010101T040000
TZOFFSETFROM:+0300
TZOFFSETTO:+0200
RRULE:FREQ=YEARLY;INTERVAL=1;BYDAY=-1SU;BYMONTH=10
END:STANDARD
BEGIN:DAYLIGHT
DTSTART:16010101T030000
TZOFFSETFROM:+0200
TZOFFSETTO:+0300
RRULE:FREQ=YEARLY;INTERVAL=1;BYDAY=-1SU;BYMONTH=3
END:DAYLIGHT
END:VTIMEZONE
BEGIN:VEVENT
ORGANIZER;CN=Piia Viks-Binsol;SENT-BY="mailto:kylli@ehrl.ee":mailto:piia.viks
 -binsol@civitta.com
ATTENDEE;ROLE=REQ-PARTICIPANT;PARTSTAT=NEEDS-ACTION;RSVP=TRUE;CN=Kristel Ak
 erman:mailto:kristel.akerman@gmail.com
ATTENDEE;ROLE=REQ-PARTICIPANT;PARTSTAT=NEEDS-ACTION;RSVP=TRUE;CN=Sihtkohad 
 (turism) - MKM:mailto:sihtkohad@mkm.ee
ATTENDEE;ROLE=REQ-PARTICIPANT;PARTSTAT=NEEDS-ACTION;RSVP=TRUE;CN=Turismi ko
 ostööpartnerid - MKM:mailto:turismi.koostoopartnerid@mkm.ee
ATTENDEE;ROLE=REQ-PARTICIPANT;PARTSTAT=NEEDS-ACTION;RSVP=TRUE;CN=Ain Hinsbe
 rg:mailto:ain.hinsberg@ut.ee
ATTENDEE;ROLE=REQ-PARTICIPANT;PARTSTAT=NEEDS-ACTION;RSVP=TRUE;CN=Inna Bents
 alo:mailto:inna.bentsalo@ut.ee
ATTENDEE;ROLE=REQ-PARTICIPANT;PARTSTAT=NEEDS-ACTION;RSVP=TRUE;CN=veikko.luh
 alaid@elvl.ee:mailto:veikko.luhalaid@elvl.ee
ATTENDEE;ROLE=REQ-PARTICIPANT;PARTSTAT=NEEDS-ACTION;RSVP=TRUE;CN=rait.pihel
 gas@elvl.ee:mailto:rait.pihelgas@elvl.ee
ATTENDEE;ROLE=REQ-PARTICIPANT;PARTSTAT=NEEDS-ACTION;RSVP=TRUE;CN=kalle.toom
 et@elvl.ee:mailto:kalle.toomet@elvl.ee
ATTENDEE;ROLE=REQ-PARTICIPANT;PARTSTAT=NEEDS-ACTION;RSVP=TRUE;CN=jaakadam@h
 otmail.com:mailto:jaakadam@hotmail.com
ATTENDEE;ROLE=REQ-PARTICIPANT;PARTSTAT=NEEDS-ACTION;RSVP=TRUE;CN=Mario Lamb
 ing - MKM:mailto:mario.lambing@mkm.ee
ATTENDEE;ROLE=REQ-PARTICIPANT;PARTSTAT=NEEDS-ACTION;RSVP=TRUE;CN=urmas.kukk
 @kpmglaw.ee:mailto:urmas.kukk@kpmglaw.ee
ATTENDEE;ROLE=REQ-PARTICIPANT;PARTSTAT=NEEDS-ACTION;RSVP=TRUE;CN=Kalle Kill
 ar:mailto:kalle.killar@tallinnlv.ee
ATTENDEE;ROLE=REQ-PARTICIPANT;PARTSTAT=NEEDS-ACTION;RSVP=TRUE;CN=indreksr@t
 lu.ee:mailto:indreksr@tlu.ee
ATTENDEE;ROLE=REQ-PARTICIPANT;PARTSTAT=NEEDS-ACTION;RSVP=TRUE;CN=Andres Lev
 ald - MKM:mailto:andres.levald@mkm.ee
ATTENDEE;ROLE=REQ-PARTICIPANT;PARTSTAT=NEEDS-ACTION;RSVP=TRUE;CN=Kati Kikas
  - MKM:mailto:kati.kikas@mkm.ee
ATTENDEE;ROLE=REQ-PARTICIPANT;PARTSTAT=NEEDS-ACTION;RSVP=TRUE;CN=Aleksandr 
 Michelson - MKM:mailto:aleksandr.michelson@mkm.ee
ATTENDEE;ROLE=REQ-PARTICIPANT;PARTSTAT=NEEDS-ACTION;RSVP=TRUE;CN=Piret Pukk
 :mailto:piret.pukk@stat.ee
ATTENDEE;ROLE=REQ-PARTICIPANT;PARTSTAT=NEEDS-ACTION;RSVP=TRUE;CN=Martti Rel
 l:mailto:martti.rell@civitta.com
ATTENDEE;ROLE=REQ-PARTICIPANT;PARTSTAT=NEEDS-ACTION;RSVP=TRUE;CN=Kaspar Ale
 v:mailto:kaspar.alev@kliimaministeerium.ee
ATTENDEE;ROLE=REQ-PARTICIPANT;PARTSTAT=NEEDS-ACTION;RSVP=TRUE;CN=Kaja Pae:m
 ailto:kaja.pae@kliimaministeerium.ee
ATTENDEE;ROLE=REQ-PARTICIPANT;PARTSTAT=NEEDS-ACTION;RSVP=TRUE;CN=asko.tamm@
 tallinnlv.ee:mailto:asko.tamm@tallinnlv.ee
ATTENDEE;ROLE=REQ-PARTICIPANT;PARTSTAT=NEEDS-ACTION;RSVP=TRUE;CN=terkerik@t
 lu.ee:mailto:terkerik@tlu.ee
ATTACH:CID:378F12DE00FCE649A742C8B5F414F2A5@eurprd02.prod.outlook.com
DESCRIPTION;LANGUAGE=en-US:\n\n\n\n-----Original Appointment-----\nFrom: Pi
 ia Viks-Binsol <piia.viks-binsol@civitta.com>\nSent: Thursday\, May 29\, 2
 025 11:28 AM\nTo: Piia Viks-Binsol\; Sihtkohad (turism) - MKM\; Turismi ko
 ostööpartnerid - MKM\; Ain Hinsberg\; Inna Bentsalo\; veikko.luhalaid@el
 vl.ee\; rait.pihelgas@elvl.ee\; kalle.toomet@elvl.ee\; jaakadam@hotmail.co
 m\; Mario Lambing - MKM\; urmas.kukk@kpmglaw.ee\; Kalle Killar\; indreksr@
 tlu.ee\; Andres Levald - MKM\; Kati Kikas - MKM\; Aleksandr Michelson - MK
 M\; Piret Pukk\; Martti Rell\; Kaspar Alev\; Kaja Pae\; asko.tamm@tallinnl
 v.ee\; terkerik@tlu.ee\nSubject: Ed: Lühiajalise üüri turu analüüs_II
  teadusnõustamine\nWhen: teisipäev\, 17. juuni 2025 13:00-17:00 (UTC+02:
 00) Helsinki\, Kyiv\, Riga\, Sofia\, Tallinn\, Vilnius.\nWhere:\n\n\n\nKUT
 SE: kellele pakub huvi lühiajalise üüri turu teema\n\n\n\nLühiajalise 
 üüri turu rakendusuuringu II teadusnõustamine\n\n17.06.2025 kell 13-17\
 , Teamsis\n\nFookuses on poliitikasoovitused (NB! tööversioon) enne lõp
 paruande esimese versiooni esitamist tellijale tagasisidestamiseks.\n\n\n\
 nKutset võib jagada. Palun arvestada sellega\, et MKM\, KLIM ja Statistik
 aamet on n-ö peamised edastatava sisendi saajad ja kellel on eelisõigus 
 küsimuste esitamiseks.\n\n\n\nAleksandr\n\n\n\n***\n\n\n\nMKM (turismi- j
 a planeerimise tiimid) koostöös Statistikaameti ja Kliimaministeeriumiga
  tellisid uuringu lühiajalise üüri turu analüüsimiseks. Uuring algas 
 2024. aasta lõpus. Uuringu eesmärk on välja töötada Eesti olude ja er
 ipäradega arvestav lühiajalise üüriteenuse turu kontseptsioon ja metoo
 dika turu seisu ja sotsiaal-majanduslike mõjude hindamiseks\, saada konkr
 eetne\, sh rahalise ulatusega sisend poliitikakujunduseks\, millest lähtu
 valt on võimalik kujundada poliitikameetmeid.\n\n\n\nUuringu raames toimu
 vad teadusnõustamised. Need on mõeldud selleks\, et uuringu teostaja joo
 ksvalt nõustaks tellijat lühiajalise üüri turu teemadel.\n\n\n\n  ____
 _\n\nSaatja: Piia Viks-Binsol <piia.viks-binsol@civitta.com<mailto:piia.vi
 ks-binsol@civitta.com>>\nSaadetud: laupäev\, 10. mai 2025 20:31:04 (UTC+0
 2:00) Helsinki\, Kyiv\, Riga\, Sofia\, Tallinn\, Vilnius\nAdressaat: Piia 
 Viks-Binsol <piia.viks-binsol@civitta.com<mailto:piia.viks-binsol@civitta.
 com>>\; jaakadam@hotmail.com<mailto:jaakadam@hotmail.com> <jaakadam@hotmai
 l.com<mailto:jaakadam@hotmail.com>>\; Mario Lambing - MKM <mario.lambing@m
 km.ee<mailto:mario.lambing@mkm.ee>>\; urmas.kukk@kpmglaw.ee<mailto:urmas.k
 ukk@kpmglaw.ee> <urmas.kukk@kpmglaw.ee<mailto:urmas.kukk@kpmglaw.ee>>\; Ka
 lle Killar <kalle.killar@tallinnlv.ee<mailto:kalle.killar@tallinnlv.ee>>\;
  indreksr@tlu.ee<mailto:indreksr@tlu.ee> <indreksr@tlu.ee<mailto:indreksr@
 tlu.ee>>\; Andres Levald - MKM <andres.levald@mkm.ee<mailto:andres.levald@
 mkm.ee>>\; Kati Kikas - MKM <kati.kikas@mkm.ee<mailto:kati.kikas@mkm.ee>>\
 ; Aleksandr Michelson - MKM <aleksandr.michelson@mkm.ee<mailto:aleksandr.m
 ichelson@mkm.ee>>\; Piret Pukk <piret.pukk@stat.ee<mailto:piret.pukk@stat.
 ee>>\; Martti Rell <martti.rell@civitta.com<mailto:martti.rell@civitta.com
 >>\; Kaspar Alev <kaspar.alev@kliimaministeerium.ee<mailto:kaspar.alev@kli
 imaministeerium.ee>>\; Kaja Pae <kaja.pae@kliimaministeerium.ee<mailto:kaj
 a.pae@kliimaministeerium.ee>>\; asko.tamm@tallinnlv.ee<mailto:asko.tamm@ta
 llinnlv.ee> <asko.tamm@tallinnlv.ee<mailto:asko.tamm@tallinnlv.ee>>\; terk
 erik@tlu.ee<mailto:terkerik@tlu.ee> <terkerik@tlu.ee<mailto:terkerik@tlu.e
 e>>\nTeema: Lühiajalise üüri turu analüüs_II teadusnõustamine\nAeg: 
 teisipäev\, 17. juuni 2025 13:00–17:00.\nKoht:\n\n        Tähelepanu! 
 Tegemist on välisvõrgust saabunud kirjaga.\nTundmatu saatja korral palum
 e linke ja faile mitte avada.\n\nLühiajalise üüri turu analüüs_II tea
 dusnõustamine\n\nJoin with Google Meet – Tere Broneerin aja uuringu "L
 ühiajalise üüri turu analüüs" II teadusnõustamise jaoks. Täpsema p
 äevakava saadame kohtumise lähenedes. Soovi korral palun edastage kutse 
 kolleegidele\, kes võiksid Teie\n\n\n\nJoin with Google Meet\n\n\nMeeting
  link\n\n\nmeet.google.com/iko-ghjr-zrg<https://meet.google.com/iko-ghjr-z
 rg?hs=224>\n\n\nJoin by phone\n\n\n(EE) +372 685 2181<tel:+372-685-2181%3B
 473391443%23>\nPIN: 473391443\n\nMore phone numbers<https://tel.meet/iko-g
 hjr-zrg?pin=4965274551912&hs=0>\n\n\n\nTere\n\nBroneerin aja uuringu "Lüh
 iajalise üüri turu analüüs" II teadusnõustamise jaoks.\nTäpsema päe
 vakava saadame kohtumise lähenedes.\n\nSoovi korral palun edastage kutse 
 kolleegidele\, kes võiksid Teie arvates samuti osaleda.\n\nHeade soovideg
 a\nPiia Viks-Binsol\n\n\nWhen\n\n\nTuesday Jun 17\, 2025 ⋅ 13:00 – 17:
 00 (Eastern European Time - Vilnius)\n\n\nGuests\n\n\nPiia Viks-Binsol<mai
 lto:piia.viks-binsol@civitta.com> - organizer\n\njaakadam@hotmail.com<mail
 to:jaakadam@hotmail.com>\n\nmario.lambing@mkm.ee<mailto:mario.lambing@mkm.
 ee>\n\nurmas.kukk@kpmglaw.ee<mailto:urmas.kukk@kpmglaw.ee>\n\nkalle.killar
 @tallinnlv.ee<mailto:kalle.killar@tallinnlv.ee>\n\nindreksr@tlu.ee<mailto:
 indreksr@tlu.ee>\n\nandres.levald@mkm.ee<mailto:andres.levald@mkm.ee>\n\nk
 ati.kikas@mkm.ee<mailto:kati.kikas@mkm.ee>\n\naleksandr.michelson@mkm.ee<m
 ailto:aleksandr.michelson@mkm.ee>\n\npiret.pukk@stat.ee<mailto:piret.pukk@
 stat.ee>\n\nMartti Rell<mailto:martti.rell@civitta.com>\n\nkaspar.alev@kli
 imaministeerium.ee<mailto:kaspar.alev@kliimaministeerium.ee>\n\nkaja.pae@k
 liimaministeerium.ee<mailto:kaja.pae@kliimaministeerium.ee>\n\nasko.tamm@t
 allinnlv.ee<mailto:asko.tamm@tallinnlv.ee>\n\nterkerik@tlu.ee<mailto:terke
 rik@tlu.ee>\n\nView all guest info<https://calendar.google.com/calendar/ev
 ent?action=VIEW&eid=NXI5ZnI1YXVycmE1ZXRhaDBvamJ2NmFxOTkgYWxla3NhbmRyLm1pY2
 hlbHNvbkBta20uZWU&tok=MjgjcGlpYS52aWtzLWJpbnNvbEBjaXZpdHRhLmNvbTY0ZjA2Njhm
 N2U3NzE4NzJjMmFlZmI1YTQwMzYxM2ZmOGJhM2U1MzQ&ctz=Europe%2FVilnius&hl=en&es=
 0>\n\nReply for aleksandr.michelson@mkm.ee<mailto:aleksandr.michelson@mkm.
 ee>\n\nYes\n\nNo\n\nMaybe\n\n\n\nMore options\n\n\n\nInvitation from Googl
 e Calendar<https://calendar.google.com/calendar/>\n\nYou are receiving thi
 s email because you are an attendee on the event.\n\nForwarding this invit
 ation could allow any recipient to send a response to the organizer\, be a
 dded to the guest list\, invite others regardless of their own invitation 
 status\, or modify your RSVP. Learn more<https://support.google.com/calend
 ar/answer/37135#forwarding>\n\n\n\n
UID:5r9fr5aurra5etah0ojbv6aq99@google.com
SUMMARY;LANGUAGE=en-US:FW: Lühiajalise üüri turu analüüs_II teadusnõu
 stamine
DTSTART;TZID=FLE Standard Time:20250617T130000
DTEND;TZID=FLE Standard Time:20250617T170000
CLASS:PUBLIC
PRIORITY:5
DTSTAMP:20250510T173040Z
TRANSP:OPAQUE
STATUS:CONFIRMED
SEQUENCE:0
LOCATION;LANGUAGE=en-US:
X-MICROSOFT-CDO-APPT-SEQUENCE:0
X-MICROSOFT-CDO-OWNERAPPTID:-1690270401
X-MICROSOFT-CDO-BUSYSTATUS:TENTATIVE
X-MICROSOFT-CDO-INTENDEDSTATUS:BUSY
X-MICROSOFT-CDO-ALLDAYEVENT:FALSE
X-MICROSOFT-CDO-IMPORTANCE:1
X-MICROSOFT-CDO-INSTTYPE:0
X-MICROSOFT-DONOTFORWARDMEETING:FALSE
X-MICROSOFT-DISALLOW-COUNTER:FALSE
X-MICROSOFT-REQUESTEDATTENDANCEMODE:DEFAULT
X-MICROSOFT-ISRESPONSEREQUESTED:TRUE
X-MICROSOFT-LOCATIONS:[]
BEGIN:VALARM
DESCRIPTION:REMINDER
TRIGGER;RELATED=START:-PT10M
ACTION:DISPLAY
END:VALARM
END:VEVENT
END:VCALENDAR
