BEGIN:VCALENDAR
PRODID:-//Microsoft Corporation//Outlook 16.0 MIMEDIR//EN
VERSION:2.0
METHOD:REQUEST
X-MS-OLK-FORCEINSPECTOROPEN:TRUE
BEGIN:VTIMEZONE
TZID:FLE Standard Time
BEGIN:STANDARD
DTSTART:16011028T040000
RRULE:FREQ=YEARLY;BYDAY=-1SU;BYMONTH=10
TZOFFSETFROM:+0300
TZOFFSETTO:+0200
END:STANDARD
BEGIN:DAYLIGHT
DTSTART:16010325T030000
RRULE:FREQ=YEARLY;BYDAY=-1SU;BYMONTH=3
TZOFFSETFROM:+0200
TZOFFSETTO:+0300
END:DAYLIGHT
END:VTIMEZONE
BEGIN:VEVENT
ATTENDEE;CN="HM - HTM";RSVP=TRUE:mailto:hm@hm.ee
ATTENDEE;CN=info@kaitseministeerium.ee;RSVP=TRUE:mailto:info@kaitseministee
	rium.ee
ATTENDEE;CN=info@kliimaministeerium.ee;RSVP=TRUE:mailto:info@kliimaministee
	rium.ee
ATTENDEE;CN=min@kul.ee;RSVP=TRUE:mailto:min@kul.ee
ATTENDEE;CN=info@agri.ee;RSVP=TRUE:mailto:info@agri.ee
ATTENDEE;CN="info - MKM";RSVP=TRUE:mailto:info@mkm.ee
ATTENDEE;CN="Info - RAM";RSVP=TRUE:mailto:Info@fin.ee
ATTENDEE;CN=info@siseministeerium.ee;RSVP=TRUE:mailto:info@siseministeerium
	.ee
ATTENDEE;CN="Riigikantselei - RK";RSVP=TRUE:mailto:riigikantselei@riigikant
	selei.ee
ATTENDEE;CN=info@tervisekassa.ee;RSVP=TRUE:mailto:info@tervisekassa.ee
ATTENDEE;CN=tai@tai.ee;RSVP=TRUE:mailto:tai@tai.ee
ATTENDEE;CN=info@terviseamet.ee;RSVP=TRUE:mailto:info@terviseamet.ee
ATTENDEE;CN=info@ravimiamet.ee;RSVP=TRUE:mailto:info@ravimiamet.ee
ATTENDEE;CN=dph@ut.ee;RSVP=TRUE:mailto:dph@ut.ee
ATTENDEE;CN=info@haiglateliit.ee;RSVP=TRUE:mailto:info@haiglateliit.ee
ATTENDEE;CN=info@elvl.ee;RSVP=TRUE:mailto:info@elvl.ee
ATTENDEE;CN=info@perearstiselts.ee;RSVP=TRUE:mailto:info@perearstiselts.ee
ATTENDEE;CN=arstideliit@arstideliit.ee;RSVP=TRUE:mailto:arstideliit@arstide
	liit.ee
ATTENDEE;CN=info@ena.ee;RSVP=TRUE:mailto:info@ena.ee
ATTENDEE;CN=eays@eays.ee;RSVP=TRUE:mailto:eays@eays.ee
ATTENDEE;CN=epikoda@epikoda.ee;RSVP=TRUE:mailto:epikoda@epikoda.ee
ATTENDEE;CN=info@tervis.ee;RSVP=TRUE:mailto:info@tervis.ee
ATTENDEE;CN=vatek@vatek.ee;RSVP=TRUE:mailto:vatek@vatek.ee
ATTENDEE;CN="Britt Saarsen - HTM";RSVP=TRUE:mailto:britt.saarsen@hm.ee
ATTENDEE;CN=anu.rannaveski@kra.ee;RSVP=TRUE:mailto:anu.rannaveski@kra.ee
ATTENDEE;CN="Merilin Olo";RSVP=TRUE:mailto:Merilin.Olo@kliimaministeerium.e
	e
ATTENDEE;CN=margus.klaan@kul.ee;RSVP=TRUE:mailto:margus.klaan@kul.ee
ATTENDEE;CN=triin.korgmaa@agri.ee;RSVP=TRUE:mailto:triin.korgmaa@agri.ee
ATTENDEE;CN="Ulla Saar - MKM";RSVP=TRUE:mailto:Ulla.Saar@mkm.ee
ATTENDEE;CN="Elo Piksarv - RAM";RSVP=TRUE:mailto:elo.piksarv@fin.ee
ATTENDEE;CN="Joosep Kaasik";RSVP=TRUE:mailto:joosep.kaasik@siseministeerium
	.ee
ATTENDEE;CN="Mariko Jõeorg-Jurtšenko - RK";RSVP=TRUE:mailto:mariko.joeorg
	-jurtsenko@riigikantselei.ee
ATTENDEE;CN="Maivi Parv";RSVP=TRUE:mailto:Maivi.Parv@tervisekassa.ee
ATTENDEE;CN="Airi Mitendorf";RSVP=TRUE:mailto:airi.mitendorf@tai.ee
ATTENDEE;CN=mari-anne.harma@terviseamet.ee;RSVP=TRUE:mailto:mari-anne.harma
	@terviseamet.ee
ATTENDEE;CN="Katrin Kiisk";RSVP=TRUE:mailto:Katrin.Kiisk@ravimiamet.ee
ATTENDEE;CN="Kaja-Triin Laisaar";RSVP=TRUE:mailto:kaja-triin.laisaar@ut.ee
ATTENDEE;CN=urmas.sule@ph.ee;RSVP=TRUE:mailto:urmas.sule@ph.ee
ATTENDEE;CN=mailiis.kaljula@elvl.ee;RSVP=TRUE:mailto:mailiis.kaljula@elvl.e
	e
ATTENDEE;CN=ingmar@valvekliinik.ee;RSVP=TRUE:mailto:ingmar@valvekliinik.ee
ATTENDEE;CN=neeme.tonisson@tartuarstid.ee;RSVP=TRUE:mailto:neeme.tonisson@t
	artuarstid.ee
ATTENDEE;CN="Laura Keidong";RSVP=TRUE:mailto:laura.keidong@ena.ee
ATTENDEE;CN=president@eays.ee;RSVP=TRUE:mailto:president@eays.ee
ATTENDEE;CN="Tuuli Seinberg";RSVP=TRUE:mailto:tuuli.seinberg@epikoda.ee
ATTENDEE;CN=kunder.nele@gmail.com;RSVP=TRUE:mailto:kunder.nele@gmail.com
ATTENDEE;CN=anneli@vatek.ee;RSVP=TRUE:mailto:anneli@vatek.ee
ATTENDEE;CN="Anniki Lai - SOM";RSVP=TRUE:mailto:Anniki.Lai@sm.ee
ATTENDEE;CN="Katja Sepp - SOM";RSVP=TRUE:mailto:katja.sepp@sm.ee
ATTENDEE;CN="Nikita Panjuškin - SOM";RSVP=TRUE:mailto:Nikita.Panjuskin@sm.
	ee
ATTENDEE;CN="Ebe Sarapuu - SOM";RSVP=TRUE:mailto:Ebe.Sarapuu@sm.ee
ATTENDEE;CN="Heleri Reinsalu - SOM";RSVP=TRUE:mailto:Heleri.Reinsalu@sm.ee
ATTENDEE;CN="Anne Randväli - SOM";RSVP=TRUE:mailto:Anne.Randvali@sm.ee
ATTENDEE;CN="Heli Laarmann - SOM";RSVP=TRUE:mailto:Heli.Laarmann@sm.ee
ATTENDEE;CN="Neeme Raidvere - SOM";ROLE=OPT-PARTICIPANT;RSVP=TRUE:mailto:Ne
	eme.Raidvere@sm.ee
ATTENDEE;CN="Vootele Veldre - SOM";ROLE=OPT-PARTICIPANT;RSVP=TRUE:mailto:Vo
	otele.Veldre@sm.ee
ATTENDEE;CN="Jaanika Merilo - SOM";ROLE=OPT-PARTICIPANT;RSVP=TRUE:mailto:Ja
	anika.Merilo@sm.ee
ATTENDEE;CN="Minni Timberg - SOM";ROLE=OPT-PARTICIPANT;RSVP=TRUE:mailto:Min
	ni.Timberg@sm.ee
ATTENDEE;CN="Lii Pärg - SOM";ROLE=OPT-PARTICIPANT;RSVP=TRUE:mailto:Lii.Par
	g@sm.ee
ATTENDEE;CN="Kärt Veliste - SOM";ROLE=OPT-PARTICIPANT;RSVP=TRUE:mailto:kar
	t.veliste@sm.ee
ATTENDEE;CN="Katrin Kivisild - SOM";ROLE=OPT-PARTICIPANT;RSVP=TRUE:mailto:K
	atrin.Kivisild@sm.ee
ATTENDEE;CN="Aive Telling - SOM";ROLE=OPT-PARTICIPANT;RSVP=TRUE:mailto:Aive
	.Telling@sm.ee
ATTENDEE;CN="Brigitta Õunmaa - SOM";ROLE=OPT-PARTICIPANT;RSVP=TRUE:mailto:
	Brigitta.Ounmaa@sm.ee
ATTENDEE;CN="Kerli Reintamm-Gutan - SOM";ROLE=OPT-PARTICIPANT;RSVP=TRUE:mai
	lto:Kerli.Reintamm-Gutan@sm.ee
ATTENDEE;CN="Mariken Ross - SOM";ROLE=OPT-PARTICIPANT;RSVP=TRUE:mailto:mari
	ken.ross@sm.ee
CLASS:PUBLIC
CREATED:20251015T125905Z
DESCRIPTION:Tere\, rahvastiku tervise arengukava juhtkomisjoni liikmed!\n\n
	 \n\nBroneerin teie kalendritesse järgmise kohtumise aja. Päevakava on k
	oostamisel ja saadan hiljem.\n\nKohtumine toimub Tallinnas kohapeal\, täp
	sem asukoht täpsustub.\n\n \n\nLugupidamisega\n\n \n\nÜlle Harak\nstrate
	egilise planeerimise nõunik\n\n\nSotsiaalministeerium\nSuur-Ameerika 1\n1
	0122 Tallinn\n\nwww.sm.ee <http://www.sm.ee>  \n\n \n\n___________________
	_____________________________________________________________\n\nMicrosoft
	 Teams Kas vajad abi? <https://aka.ms/JoinTeamsMeeting?omkt=et-EE>  \n\nLi
	itu koosolekuga kohe <https://teams.microsoft.com/l/meetup-join/19%3ameeti
	ng_MWFkZWI0YmUtYzFjMi00ZTA5LTgxOGEtZTBiMGZhZjkxYzU4%40thread.v2/0?context=
	%7b%22Tid%22%3a%228fe098d2-428d-4bd4-9803-7195fe96f0e2%22%2c%22Oid%22%3a%2
	2a20ee505-67be-4dee-aaaf-7272e1b6b5c1%22%7d>  \n\nKoosoleku ID: 362 930 73
	8 582 0 \n\nPääsukood: uE7wM7cE \n\n________________________________\n\n
	Korraldajatele: Koosolekusuvandid <https://teams.microsoft.com/meetingOpti
	ons/?organizerId=a20ee505-67be-4dee-aaaf-7272e1b6b5c1&tenantId=8fe098d2-42
	8d-4bd4-9803-7195fe96f0e2&threadId=19_meeting_MWFkZWI0YmUtYzFjMi00ZTA5LTgx
	OGEtZTBiMGZhZjkxYzU4@thread.v2&messageId=0&language=et-EE>  \n\n__________
	______________________________________________________________________\n\n
	 \n\n
DTEND;TZID="FLE Standard Time":20251217T123000
DTSTAMP:20251015T125633Z
DTSTART;TZID="FLE Standard Time":20251217T093000
LAST-MODIFIED:20251015T125905Z
LOCATION:Tallinn
ORGANIZER;CN="Ülle Harak - SOM":mailto:ulle.harak@sm.ee
PRIORITY:5
SEQUENCE:0
SUMMARY;LANGUAGE=et:Rahvastiku tervise arengukava 2020-2030 juhtkomisjoni k
	ohtumine
TRANSP:OPAQUE
UID:040000008200E00074C5B7101A82E00800000000E078CD1AE93DDC01000000000000000
	0100000008FA260A3763743458AFF2B221ADEB907
X-ALT-DESC;FMTTYPE=text/html:<html xmlns:v="urn:schemas-microsoft-com:vml" 
	xmlns:o="urn:schemas-microsoft-com:office:office" xmlns:w="urn:schemas-mic
	rosoft-com:office:word" xmlns:m="http://schemas.microsoft.com/office/2004/
	12/omml" xmlns="http://www.w3.org/TR/REC-html40"><head>\n<meta http-equiv=
	"Content-Type" content="text/html\; charset=windows-1257">\n<meta name="Ge
	nerator" content="Microsoft Word 15 (filtered medium)">\n<!--[if !mso]><st
	yle>v\\:* {behavior:url(#default#VML)\;}\no\\:* {behavior:url(#default#VML
	)\;}\nw\\:* {behavior:url(#default#VML)\;}\n.shape {behavior:url(#default#
	VML)\;}\n</style><![endif]--><style><!--\n/* Font Definitions */\n@font-fa
	ce\n	{font-family:"Cambria Math"\;\n	panose-1:2 4 5 3 5 4 6 3 2 4\;}\n@fon
	t-face\n	{font-family:Calibri\;\n	panose-1:2 15 5 2 2 2 4 3 2 4\;}\n@font-
	face\n	{font-family:Aptos\;}\n@font-face\n	{font-family:Roboto\;\n	panose-
	1:2 0 0 0 0 0 0 0 0 0\;}\n@font-face\n	{font-family:"Segoe UI"\;\n	panose-
	1:2 11 5 2 4 2 4 2 2 3\;}\n/* Style Definitions */\np.MsoNormal\, li.MsoNo
	rmal\, div.MsoNormal\n	{margin:0cm\;\n	font-size:12.0pt\;\n	font-family:"A
	ptos"\,sans-serif\;\n	mso-ligatures:standardcontextual\;\n	mso-fareast-lan
	guage:EN-US\;}\na:link\, span.MsoHyperlink\n	{mso-style-priority:99\;\n	co
	lor:#467886\;\n	text-decoration:underline\;}\nspan.me-email-text\n	{mso-st
	yle-name:me-email-text\;}\nspan.me-email-text-secondary\n	{mso-style-name:
	me-email-text-secondary\;}\nspan.Meililaad20\n	{mso-style-type:personal-co
	mpose\;\n	font-family:Roboto\;}\n.MsoChpDefault\n	{mso-style-type:export-o
	nly\;\n	font-size:10.0pt\;\n	mso-ligatures:none\;}\n@page WordSection1\n	{
	size:612.0pt 792.0pt\;\n	margin:70.85pt 70.85pt 70.85pt 70.85pt\;}\ndiv.Wo
	rdSection1\n	{page:WordSection1\;}\n--></style><!--[if gte mso 9]><xml>\n<
	o:shapedefaults v:ext="edit" spidmax="1026" />\n</xml><![endif]--><!--[if 
	gte mso 9]><xml>\n<o:shapelayout v:ext="edit">\n<o:idmap v:ext="edit" data
	="1" />\n</o:shapelayout></xml><![endif]-->\n</head>\n<body lang="ET" link
	="#467886" vlink="#96607D" style="word-wrap:break-word">\n<div class="Word
	Section1">\n<p class="MsoNormal"><span style="font-size:11.0pt\;font-famil
	y:Roboto">Tere\, rahvastiku tervise arengukava juhtkomisjoni liikmed!<o:p>
	</o:p></span></p>\n<p class="MsoNormal"><span style="font-size:11.0pt\;fon
	t-family:Roboto"><o:p>&nbsp\;</o:p></span></p>\n<p class="MsoNormal"><span
	 style="font-size:11.0pt\;font-family:Roboto">Broneerin teie kalendritesse
	 järgmise kohtumise aja. Päevakava on koostamisel ja saadan hiljem.<o:p>
	</o:p></span></p>\n<p class="MsoNormal"><span style="font-size:11.0pt\;fon
	t-family:Roboto">Kohtumine toimub Tallinnas kohapeal\, täpsem asukoht tä
	psustub.<o:p></o:p></span></p>\n<p class="MsoNormal"><span style="font-siz
	e:11.0pt\;font-family:Roboto"><o:p>&nbsp\;</o:p></span></p>\n<p class="Mso
	Normal"><span style="font-size:11.0pt\;font-family:Roboto">Lugupidamisega<
	o:p></o:p></span></p>\n<p class="MsoNormal"><span style="font-size:11.0pt\
	;font-family:Roboto"><o:p>&nbsp\;</o:p></span></p>\n<table class="MsoNorma
	lTable" border="0" cellspacing="0" cellpadding="0" width="660" style="widt
	h:495.0pt">\n<tbody>\n<tr>\n<td width="660" valign="top" style="width:495.
	0pt\;padding:0cm 0cm 0cm 0cm">\n<p class="MsoNormal" style="mso-margin-top
	-alt:auto"><b><span style="font-family:&quot\;Calibri&quot\;\,sans-serif\;
	color:#235DB4\;mso-ligatures:none\;mso-fareast-language:ET">Ülle Harak</s
	pan></b><b><span style="font-family:&quot\;Calibri&quot\;\,sans-serif\;col
	or:#1F6FE9\;mso-ligatures:none\;mso-fareast-language:ET"><br>\n</span></b>
	<span style="font-family:&quot\;Calibri&quot\;\,sans-serif\;mso-ligatures:
	none\;mso-fareast-language:ET">strateegilise planeerimise nõunik<o:p></o:
	p></span></p>\n</td>\n</tr>\n<tr>\n<td width="660" valign="top" style="wid
	th:495.0pt\;padding:0cm 0cm 0cm 0cm">\n<p class="MsoNormal"><span style="f
	ont-size:10.0pt\;font-family:&quot\;Calibri&quot\;\,sans-serif"><br>\nSots
	iaalministeerium<br>\nSuur-Ameerika 1<br>\n10122 Tallinn</span><span style
	="font-family:&quot\;Calibri&quot\;\,sans-serif"><o:p></o:p></span></p>\n<
	p class="MsoNormal"><u><span style="font-size:10.0pt\;font-family:&quot\;C
	alibri&quot\;\,sans-serif\;color:#1E66AD\;background:white"><a href="http:
	//www.sm.ee">www.sm.ee</a></span></u><span style="font-size:10.0pt\;font-f
	amily:&quot\;Calibri&quot\;\,sans-serif">&nbsp\;</span><span style="font-f
	amily:&quot\;Calibri&quot\;\,sans-serif"><o:p></o:p></span></p>\n</td>\n</
	tr>\n</tbody>\n</table>\n<p class="MsoNormal"><span style="font-size:11.0p
	t\;font-family:Roboto"><o:p>&nbsp\;</o:p></span></p>\n<div>\n<div style="m
	argin-bottom:18.0pt\;overflow:hidden">\n<p class="MsoNormal"><span style="
	font-family:&quot\;Segoe UI&quot\;\,sans-serif\;color:#242424">___________
	_____________________________________________________________________</spa
	n><span style="font-family:&quot\;Segoe UI&quot\;\,sans-serif\;color:#2424
	24\;mso-ligatures:none"><o:p></o:p></span></p>\n</div>\n<div style="margin
	-bottom:9.0pt">\n<p class="MsoNormal"><span class="me-email-text"><b><span
	 style="font-size:18.0pt\;font-family:&quot\;Segoe UI&quot\;\,sans-serif\;
	color:#242424">Microsoft Teams</span></b></span><span style="font-family:&
	quot\;Segoe UI&quot\;\,sans-serif\;color:#242424">\n<a href="https://aka.m
	s/JoinTeamsMeeting?omkt=et-EE"><span style="font-size:10.5pt\;color:#5B5FC
	7">Kas vajad abi?</span></a>\n<o:p></o:p></span></p>\n</div>\n<div style="
	margin-bottom:4.5pt">\n<p class="MsoNormal"><span style="font-family:&quot
	\;Segoe UI&quot\;\,sans-serif\;color:#242424"><a href="https://teams.micro
	soft.com/l/meetup-join/19%3ameeting_MWFkZWI0YmUtYzFjMi00ZTA5LTgxOGEtZTBiMG
	ZhZjkxYzU4%40thread.v2/0?context=%7b%22Tid%22%3a%228fe098d2-428d-4bd4-9803
	-7195fe96f0e2%22%2c%22Oid%22%3a%22a20ee505-67be-4dee-aaaf-7272e1b6b5c1%22%
	7d" target="_blank" title="Meeting join link"><b><span style="font-size:15
	.0pt\;color:#5B5FC7">Liitu\n koosolekuga kohe</span></b></a> <o:p></o:p></
	span></p>\n</div>\n<div style="margin-bottom:4.5pt">\n<p class="MsoNormal"
	><span class="me-email-text-secondary"><span style="font-size:10.5pt\;font
	-family:&quot\;Segoe UI&quot\;\,sans-serif\;color:#616161">Koosoleku ID:\n
	</span></span><span class="me-email-text"><span style="font-size:10.5pt\;f
	ont-family:&quot\;Segoe UI&quot\;\,sans-serif\;color:#242424">362 930 738 
	582 0</span></span><span style="font-family:&quot\;Segoe UI&quot\;\,sans-s
	erif\;color:#242424">\n<o:p></o:p></span></p>\n</div>\n<div style="margin-
	bottom:4.5pt">\n<p class="MsoNormal"><span class="me-email-text-secondary"
	><span style="font-size:10.5pt\;font-family:&quot\;Segoe UI&quot\;\,sans-s
	erif\;color:#616161">Pääsukood:\n</span></span><span class="me-email-tex
	t"><span style="font-size:10.5pt\;font-family:&quot\;Segoe UI&quot\;\,sans
	-serif\;color:#242424">uE7wM7cE</span></span><span style="font-family:&quo
	t\;Segoe UI&quot\;\,sans-serif\;color:#242424">\n<o:p></o:p></span></p>\n<
	/div>\n<div style="margin-bottom:18.0pt">\n<div class="MsoNormal" align="c
	enter" style="text-align:center"><span style="font-family:&quot\;Segoe UI&
	quot\;\,sans-serif\;color:#242424">\n<hr size="1" width="100%" align="cent
	er">\n</span></div>\n</div>\n<div>\n<p class="MsoNormal"><span class="me-e
	mail-text-secondary"><span style="font-size:10.5pt\;font-family:&quot\;Seg
	oe UI&quot\;\,sans-serif\;color:#616161">Korraldajatele:\n</span></span><s
	pan style="font-family:&quot\;Segoe UI&quot\;\,sans-serif\;color:#242424">
	<a href="https://teams.microsoft.com/meetingOptions/?organizerId=a20ee505-
	67be-4dee-aaaf-7272e1b6b5c1&amp\;tenantId=8fe098d2-428d-4bd4-9803-7195fe96
	f0e2&amp\;threadId=19_meeting_MWFkZWI0YmUtYzFjMi00ZTA5LTgxOGEtZTBiMGZhZjkx
	YzU4@thread.v2&amp\;messageId=0&amp\;language=et-EE" target="_blank"><span
	 style="font-size:10.5pt\;color:#5B5FC7">Koosolekusuvandid</span></a>\n<o:
	p></o:p></span></p>\n</div>\n<div style="margin-bottom:18.0pt\;overflow:hi
	dden">\n<p class="MsoNormal"><span style="font-family:&quot\;Segoe UI&quot
	\;\,sans-serif\;color:#242424">___________________________________________
	_____________________________________<o:p></o:p></span></p>\n</div>\n</div
	>\n<p class="MsoNormal"><span style="font-size:11.0pt\;font-family:Roboto"
	><o:p>&nbsp\;</o:p></span></p>\n</div>\n</body>\n</html>\n
X-MICROSOFT-CDO-BUSYSTATUS:TENTATIVE
X-MICROSOFT-CDO-IMPORTANCE:1
X-MICROSOFT-CDO-INTENDEDSTATUS:BUSY
X-MICROSOFT-DISALLOW-COUNTER:FALSE
X-MS-OLK-APPTLASTSEQUENCE:0
BEGIN:VALARM
TRIGGER:-PT15M
ACTION:DISPLAY
DESCRIPTION:Reminder
END:VALARM
END:VEVENT
END:VCALENDAR
