BEGIN:VCALENDAR
PRODID:-//Microsoft Corporation//Outlook 16.0 MIMEDIR//EN
VERSION:2.0
METHOD:REQUEST
X-MS-OLK-FORCEINSPECTOROPEN:TRUE
BEGIN:VTIMEZONE
TZID:FLE Standard Time
BEGIN:STANDARD
DTSTART:16011028T040000
RRULE:FREQ=YEARLY;BYDAY=-1SU;BYMONTH=10
TZOFFSETFROM:+0300
TZOFFSETTO:+0200
END:STANDARD
BEGIN:DAYLIGHT
DTSTART:16010325T030000
RRULE:FREQ=YEARLY;BYDAY=-1SU;BYMONTH=3
TZOFFSETFROM:+0200
TZOFFSETTO:+0300
END:DAYLIGHT
END:VTIMEZONE
BEGIN:VEVENT
ATTACH:CID:6C1EBE3F93B61B4685A896B2A55DD81A@transportstyrelsen.se
ATTENDEE;CN=AKLA@trafikstyrelsen.dk;RSVP=TRUE:mailto:AKLA@trafikstyrelsen.d
	k
ATTENDEE;CN="Moonika Käst";RSVP=TRUE:mailto:Moonika.Kast@transpordiamet.ee
ATTENDEE;CN=soean@mst.dk;RSVP=TRUE:mailto:soean@mst.dk
ATTENDEE;CN=reet.pruul@envir.ee;RSVP=TRUE:mailto:reet.pruul@envir.ee
ATTENDEE;CN=valdis.a.adalsteinsdottir@samgongustofa.is;RSVP=TRUE:mailto:val
	dis.a.adalsteinsdottir@samgongustofa.is
ATTENDEE;CN=niina.honkasalo@gov.fi;RSVP=TRUE:mailto:niina.honkasalo@gov.fi
ATTENDEE;CN="Lohko-Soner Katja";RSVP=TRUE:mailto:Katja.Lohko-Soner@traficom
	.fi
ATTENDEE;CN="Waltari Helena";RSVP=TRUE:mailto:Helena.Waltari@traficom.fi
ATTENDEE;CN="Ampuja Outi";RSVP=TRUE:mailto:Outi.Ampuja@traficom.fi
ATTENDEE;CN=kristin.h.markusdottir@samgongustofa.is;RSVP=TRUE:mailto:kristi
	n.h.markusdottir@samgongustofa.is
ATTENDEE;CN=kolbeinn.arnarson@samgongustofa.is;RSVP=TRUE:mailto:kolbeinn.ar
	narson@samgongustofa.is
ATTENDEE;CN=olof.a.rudolfsdottir@samgongustofa.is;RSVP=TRUE:mailto:olof.a.r
	udolfsdottir@samgongustofa.is
ATTENDEE;CN=mara.kompa@caa.gov.lv;RSVP=TRUE:mailto:mara.kompa@caa.gov.lv
ATTENDEE;CN=hilde.hoiem@caa.no;RSVP=TRUE:mailto:hilde.hoiem@caa.no
ATTENDEE;CN=Karl-Erik.Skjong@caa.no;RSVP=TRUE:mailto:Karl-Erik.Skjong@caa.n
	o
ATTENDEE;CN=Karl.Koefoed@sd.dep.no;RSVP=TRUE:mailto:Karl.Koefoed@sd.dep.no
ATTENDEE;CN=pat@sd.dep.no;RSVP=TRUE:mailto:pat@sd.dep.no
ATTENDEE;CN=Malin-Anitadatter.Karlstad@sd.dep.no;RSVP=TRUE:mailto:Malin-Ani
	tadatter.Karlstad@sd.dep.no
ATTENDEE;CN=ashild.Farevag@miljodir.no;RSVP=TRUE:mailto:ashild.Farevag@milj
	odir.no
ATTENDEE;CN="Raab Ulrika";RSVP=TRUE:mailto:Ulrika.Raab@transportstyrelsen.s
	e
ATTENDEE;CN="Nariné Svensson";RSVP=TRUE:mailto:Narine.Svensson@transportst
	yrelsen.se
ATTENDEE;CN=martin.larsson@regeringskansliet.se;RSVP=TRUE:mailto:martin.lar
	sson@regeringskansliet.se
ATTENDEE;CN=stefan.g.andersson@regeringskansliet.se;RSVP=TRUE:mailto:stefan
	.g.andersson@regeringskansliet.se
ATTENDEE;CN=olav.mosvold.larsen@avinor.no;RSVP=TRUE:mailto:olav.mosvold.lar
	sen@avinor.no
ATTENDEE;CN=Jan.Anders.Marheim@avinor.no;RSVP=TRUE:mailto:Jan.Anders.Marhei
	m@avinor.no
ATTENDEE;CN=Michael.James.Newman@avinor.no;RSVP=TRUE:mailto:Michael.James.N
	ewman@avinor.no
ATTENDEE;CN=ari.pietila@finavia.fi;RSVP=TRUE:mailto:ari.pietila@finavia.fi
ATTENDEE;CN=terhi.kivela@finavia.fi;RSVP=TRUE:mailto:terhi.kivela@finavia.f
	i
ATTENDEE;CN=kirsi.pitkaranta@finavia.fi;RSVP=TRUE:mailto:kirsi.pitkaranta@f
	inavia.fi
ATTENDEE;CN=satu.routama@finavia.fi;RSVP=TRUE:mailto:satu.routama@finavia.f
	i
ATTENDEE;CN=karri.hannula@ansfinland.fi;RSVP=TRUE:mailto:karri.hannula@ansf
	inland.fi
ATTENDEE;CN=Egill.Thorstensen@isavia.is;RSVP=TRUE:mailto:Egill.Thorstensen@
	isavia.is
ATTENDEE;CN=j.brizs@riga-airport.com;RSVP=TRUE:mailto:j.brizs@riga-airport.
	com
ATTENDEE;CN=peer.borglund@cph.dk;RSVP=TRUE:mailto:peer.borglund@cph.dk
ATTENDEE;CN=jens.rasmussen@cph.dk;RSVP=TRUE:mailto:jens.rasmussen@cph.dk
ATTENDEE;CN=karin.soderholm@swedavia.se;RSVP=TRUE:mailto:karin.soderholm@sw
	edavia.se
ATTENDEE;CN=christer.heed@swedavia.se;RSVP=TRUE:mailto:christer.heed@swedav
	ia.se
ATTENDEE;CN=therese.forsstrom@swedavia.se;RSVP=TRUE:mailto:therese.forsstro
	m@swedavia.se
ATTENDEE;CN=olivier.petit@lfv.se;RSVP=TRUE:mailto:olivier.petit@lfv.se
ATTENDEE;CN=Anna.Sotaniemi@finnair.com;RSVP=TRUE:mailto:Anna.Sotaniemi@finn
	air.com
ATTENDEE;CN=Tuomo.Karppinen@finnair.com;RSVP=TRUE:mailto:Tuomo.Karppinen@fi
	nnair.com
ATTENDEE;CN=charlotte.holmbergh@norwegian.com;RSVP=TRUE:mailto:charlotte.ho
	lmbergh@norwegian.com
ATTENDEE;CN=Anders.Fagernaes@norwegian.com;RSVP=TRUE:mailto:Anders.Fagernae
	s@norwegian.com
ATTENDEE;CN=Kristoffer.Gustavsen@norwegian.com;RSVP=TRUE:mailto:Kristoffer.
	Gustavsen@norwegian.com
ATTENDEE;CN=Knut-Morten.Johansen@sas.no;RSVP=TRUE:mailto:Knut-Morten.Johans
	en@sas.no
ATTENDEE;CN=ingibjorg@flyplay.is;RSVP=TRUE:mailto:ingibjorg@flyplay.is
ATTENDEE;CN=soili.varpula@klm.com;RSVP=TRUE:mailto:soili.varpula@klm.com
ATTENDEE;CN=nordicao@nordicao.com;RSVP=TRUE:mailto:nordicao@nordicao.com
ATTENDEE;CN=ETSaviation@miljodir.no;RSVP=TRUE:mailto:ETSaviation@miljodir.n
	o
ATTENDEE;CN=maf@cph.dk;RSVP=TRUE:mailto:maf@cph.dk
ATTENDEE;CN=flygakustik@swedavia.se;RSVP=TRUE:mailto:flygakustik@swedavia.s
	e
CLASS:PUBLIC
CREATED:20260220T143439Z
DESCRIPTION:Dear all\,\n\n \n\nYou are warmly welcome to save the date for 
	the upcoming NALM/74 meeting\, which will take place from 5 May 11:00 unti
	l 7 May 13:00. \n\nPlease see the information below\; further details will
	 follow. \n\n\nResponse and Attendance Confirmation\nTo facilitate plannin
	g and ensure sufficient preparation time\, please respond to the calendar 
	invitation as soon as possible\, indicating whether you plan to attend the
	 main meeting and/or noise sub-group meeting. You may use the function “
	Accept but edit the response before sending\,” or alternatively send me 
	a separate email with this information. \n\n \n\nSubmission of Agenda Item
	s\n\nIf you have any proposals or items for the agenda\, kindly attach the
	m in your reply.\n\n\nUpdate NALM contact list \nPlease also confirm the n
	ames and contact details in the NALM contact list. Send me the updated ver
	sion. \n\nBest\,\nIsabella Hadenius \n\n \n\nIsabella Hadenius\n\nEnvironm
	ental Advisor \n\nMaritime and Civil Aviation Department \nMobile: +46 72-
	209 82 73\n\n\nSwedish Transport Agency\nSE-601 73 Norrköping\n <https://
	www.transportstyrelsen.se/> transportstyrelsen.se\nTelephone: +46 771-503 
	503\n\n \n\nFollow us on  <https://www.facebook.com/transportstyrelsen> Fa
	cebook\,  <https://www.linkedin.com/company/transportstyrelsen-swedish-tra
	nsport-agency-/> Linkedin and  <https://twitter.com/TS_Nyheter> X.\n\nFind
	 out how the Swedish Transport Agency processes your personal data:  <http
	s://www.transportstyrelsen.se/en/About-the-site/how-we-take-care-of-your-p
	rivacy/> How we take care of your privacy - Transportstyrelsen.se\n\n \n\n
	Think before you print.\n\n
DTEND;TZID="FLE Standard Time":20260507T130000
DTSTAMP:20260220T084732Z
DTSTART;TZID="FLE Standard Time":20260505T110000
LAST-MODIFIED:20260220T143439Z
LOCATION:Tietotie 9\, 01530 Vantaa\, Finland 
ORGANIZER;CN="Hadenius Isabella":mailto:Isabella.Hadenius@transportstyrelse
	n.se
PRIORITY:5
SEQUENCE:0
SUMMARY;LANGUAGE=sv:Save the date NALM/74
TRANSP:OPAQUE
UID:040000008200E00074C5B7101A82E0080000000010AE99E83EA2DC01000000000000000
	0100000006C9449C7D61E1A4B9D68F7BA3A80E52E
X-ALT-DESC;FMTTYPE=text/html:<html xmlns:v="urn:schemas-microsoft-com:vml" 
	xmlns:o="urn:schemas-microsoft-com:office:office" xmlns:w="urn:schemas-mic
	rosoft-com:office:word" xmlns:m="http://schemas.microsoft.com/office/2004/
	12/omml" xmlns="http://www.w3.org/TR/REC-html40">\n<head>\n\n<meta name="G
	enerator" content="Microsoft Word 15 (filtered medium)">\n<style><!--\n/* 
	Font Definitions */\n@font-face\n	{font-family:"Cambria Math"\;\n	panose-1
	:2 4 5 3 5 4 6 3 2 4\;}\n@font-face\n	{font-family:Calibri\;\n	panose-1:2 
	15 5 2 2 2 4 3 2 4\;}\n@font-face\n	{font-family:Verdana\;\n	panose-1:2 11
	 6 4 3 5 4 4 2 4\;}\n@font-face\n	{font-family:Aptos\;}\n/* Style Definiti
	ons */\np.MsoNormal\, li.MsoNormal\, div.MsoNormal\n	{margin:0cm\;\n	font-
	size:12.0pt\;\n	font-family:"Aptos"\,sans-serif\;\n	mso-ligatures:standard
	contextual\;\n	mso-fareast-language:EN-US\;}\na:link\, span.MsoHyperlink\n
		{mso-style-priority:99\;\n	color:#467886\;\n	text-decoration:underline\;}
	\np.MsoPlainText\, li.MsoPlainText\, div.MsoPlainText\n	{mso-style-priorit
	y:99\;\n	mso-style-link:"Oformaterad text Char"\;\n	margin:0cm\;\n	font-si
	ze:11.0pt\;\n	font-family:"Calibri"\,sans-serif\;\n	mso-ligatures:standard
	contextual\;\n	mso-fareast-language:EN-US\;}\nspan.OformateradtextChar\n	{
	mso-style-name:"Oformaterad text Char"\;\n	mso-style-priority:99\;\n	mso-s
	tyle-link:"Oformaterad text"\;\n	font-family:"Calibri"\,sans-serif\;}\nspa
	n.E-postmall20\n	{mso-style-type:personal-compose\;}\n.MsoChpDefault\n	{ms
	o-style-type:export-only\;\n	font-size:10.0pt\;\n	mso-ligatures:none\;}\n@
	page WordSection1\n	{size:612.0pt 792.0pt\;\n	margin:70.85pt 70.85pt 70.85
	pt 70.85pt\;}\ndiv.WordSection1\n	{page:WordSection1\;}\n--></style><!--[i
	f gte mso 9]><xml>\n<o:shapedefaults v:ext="edit" spidmax="1026" />\n</xml
	><![endif]--><!--[if gte mso 9]><xml>\n<o:shapelayout v:ext="edit">\n<o:id
	map v:ext="edit" data="1" />\n</o:shapelayout></xml><![endif]-->\n</head>\
	n<body lang="SV" link="#467886" vlink="#96607D" style="word-wrap:break-wor
	d">\n<div class="WordSection1">\n<p class="MsoPlainText">Dear all\,<o:p></
	o:p></p>\n<p class="MsoPlainText"><o:p>&nbsp\;</o:p></p>\n<p class="MsoPla
	inText">You are warmly welcome to save the date for the upcoming NALM/74 m
	eeting\, which will take place from 5 May 11:00 until 7 May 13:00.\n<o:p><
	/o:p></p>\n<p class="MsoPlainText">Please see the information below\; furt
	her details will follow.\n<o:p></o:p></p>\n<p class="MsoPlainText"><br>\n<
	b>Response and Attendance Confirmation</b><br>\nTo facilitate planning and
	 ensure sufficient preparation time\, please respond to the calendar invit
	ation as soon as possible\, indicating whether you plan to attend the main
	 meeting and/or noise sub-group meeting. You may use the function &#8220\;
	Accept but edit the\n response before sending\,&#8221\; or alternatively s
	end me a separate email with this information.\n<o:p></o:p></p>\n<p class=
	"MsoPlainText"><o:p>&nbsp\;</o:p></p>\n<p class="MsoPlainText"><b>Submissi
	on of Agenda Items<o:p></o:p></b></p>\n<p class="MsoPlainText">If you have
	 any proposals or items for the agenda\, kindly attach them in your reply.
	<o:p></o:p></p>\n<p class="MsoPlainText" style="margin-bottom:12.0pt"><b><
	br>\nUpdate NALM contact list </b><br>\nPlease also confirm the names and 
	contact details in the NALM contact list. Send me the updated version.\n<o
	:p></o:p></p>\n<p class="MsoNormal">Best\,<br>\nIsabella Hadenius <o:p></o
	:p></p>\n<p class="MsoNormal"><o:p>&nbsp\;</o:p></p>\n<p class="MsoNormal"
	><b><span lang="EN-GB" style="font-size:10.0pt\;font-family:" Arial?\,sans
	-serif?="">Isabella Hadenius<o:p></o:p></span></b></p>\n<p class="MsoNorma
	l" style="margin-bottom:12.0pt"><span lang="EN-GB" style="font-size:9.0pt\
	;font-family:" Verdana?\,sans-serif?="">Environmental Advisor\n</span><spa
	n lang="EN-GB" style="font-size:10.0pt\;font-family:" Arial?\,sans-serif?=
	""><o:p></o:p></span></p>\n<p class="MsoNormal"><span lang="EN-GB" style="
	font-size:10.0pt\;font-family:" Arial?\,sans-serif\;color:#212121?="">Mari
	time and Civil Aviation Department\n<br>\nMobile: &#43\;46 7</span><span l
	ang="EN-GB" style="font-size:10.0pt\;font-family:" Arial?\,sans-serif?="">
	2-209 82 73<o:p></o:p></span></p>\n<p class="MsoNormal" style="background:
	white"><b><span lang="EN-GB" style="font-size:10.0pt\;font-family:" Arial?
	\,sans-serif\;color:#212121\;border:nonewindowtext1.0pt\;padding:0cm?=""><
	br>\nSwedish Transport Agency</span></b><span lang="EN-GB" style="font-siz
	e:10.0pt\;font-family:" Arial?\,sans-serif\;color:#212121?=""><br>\n</span
	><span lang="EN-GB" style="font-size:10.0pt\;font-family:" Arial?\,sans-se
	rif\;color:black?="">SE-601 73 Norrköping</span><span lang="EN-GB" style=
	"font-size:10.0pt\;font-family:" Arial?\,sans-serif\;color:#212121?=""><br
	>\n</span><span style="font-size:10.0pt\;font-family:" Arial?\,sans-serif\
	;color:#212121?=""><a href="https://www.transportstyrelsen.se/" title="tra
	nsportstyrelsen.se"><span lang="EN-GB" style="color:#005BBB\;border:none w
	indowtext 1.0pt\;padding:0cm">transportstyrelsen.se</span></a></span><span
	 lang="EN-GB" style="font-size:10.0pt\;font-family:" Arial?\,sans-serif\;c
	olor:#212121?=""><br>\nTelephone: &#43\;46 771-503&nbsp\;503<o:p></o:p></s
	pan></p>\n<p class="MsoNormal" style="background:white"><span lang="EN-GB"
	 style="font-size:7.0pt\;font-family:" Arial?\,sans-serif\;color:#212121?=
	""><o:p>&nbsp\;</o:p></span></p>\n<p class="MsoNormal" style="background:w
	hite"><span lang="EN-GB" style="font-size:7.0pt\;font-family:" Arial?\,san
	s-serif\;color:#212121?="">Follow us on&nbsp\;</span><span style="font-siz
	e:7.0pt\;font-family:" Arial?\,sans-serif\;color:#212121?=""><a href="http
	s://www.facebook.com/transportstyrelsen" title="Facebook"><span lang="EN-G
	B" style="color:#005BBB\;border:none windowtext 1.0pt\;padding:0cm">Facebo
	ok</span></a></span><span lang="EN-GB" style="font-size:7.0pt\;font-family
	:" Arial?\,sans-serif\;color:#212121?="">\,&nbsp\;</span><span style="font
	-size:7.0pt\;font-family:" Arial?\,sans-serif\;color:#212121?=""><a href="
	https://www.linkedin.com/company/transportstyrelsen-swedish-transport-agen
	cy-/" title="Linkedin"><span lang="EN-GB" style="color:#005BBB\;border:non
	e windowtext 1.0pt\;padding:0cm">Linkedin</span></a></span><span lang="EN-
	GB" style="font-size:7.0pt\;font-family:" Arial?\,sans-serif\;color:#21212
	1?="">&nbsp\;and&nbsp\;</span><span style="font-size:7.0pt\;font-family:" 
	Arial?\,sans-serif\;color:#212121?=""><a href="https://twitter.com/TS_Nyhe
	ter" title="X"><span lang="EN-GB" style="color:#005BBB\;border:none window
	text 1.0pt\;padding:0cm">X</span></a></span><span lang="EN-GB" style="font
	-size:7.0pt\;font-family:" Arial?\,sans-serif\;color:#212121?="">.<o:p></o
	:p></span></p>\n<p class="MsoNormal" style="background:white"><span lang="
	EN-GB" style="font-size:7.0pt\;font-family:" Arial?\,sans-serif\;color:#21
	2121?="">Find out how the Swedish Transport Agency processes your personal
	 data:&nbsp\;</span><span style="font-size:7.0pt\;font-family:" Arial?\,sa
	ns-serif\;color:#212121?=""><a href="https://www.transportstyrelsen.se/en/
	About-the-site/how-we-take-care-of-your-privacy/" title="How we take care 
	of your privacy - Transportstyrelsen.se"><span lang="EN-GB" style="color:#
	005BBB\;border:none windowtext 1.0pt\;padding:0cm">How\n we take care of y
	our privacy - Transportstyrelsen.se</span></a></span><span lang="EN-GB" st
	yle="font-size:7.0pt\;font-family:" Arial?\,sans-serif\;color:#212121?="">
	<o:p></o:p></span></p>\n<p class="MsoNormal" style="background:white"><spa
	n lang="EN-GB" style="font-size:7.0pt\;font-family:" Arial?\,sans-serif\;c
	olor:#212121?=""><o:p>&nbsp\;</o:p></span></p>\n<p class="MsoNormal" style
	="margin-bottom:12.0pt\;background:white"><span style="font-size:7.0pt\;fo
	nt-family:" Arial?\,sans-serif\;color:#00B050?="">Think before you print.<
	o:p></o:p></span></p>\n</div>\n</body>\n</html>\n
X-MICROSOFT-CDO-BUSYSTATUS:TENTATIVE
X-MICROSOFT-CDO-IMPORTANCE:1
X-MICROSOFT-CDO-INTENDEDSTATUS:BUSY
X-MICROSOFT-DISALLOW-COUNTER:FALSE
X-MS-OLK-SENDER;CN="Hadenius Isabella":mailto:Isabella.Hadenius@transportst
	yrelsen.se
BEGIN:VALARM
TRIGGER:-PT15M
ACTION:DISPLAY
DESCRIPTION:Reminder
END:VALARM
END:VEVENT
END:VCALENDAR

