Workbook
Name _ftn1: 'I - Imports'!#REF!
Name _ftn1: 'II - Exports'!#REF!
Name _ftn2: 'I - Imports'!#REF!
Name _ftn2: 'II - Exports'!#REF!
Name _ftnref1: 'I - Imports'!#REF!
Name _ftnref1: 'II - Exports'!#REF!
Name _ftnref2: 'I - Imports'!#REF!
Name _ftnref2: 'II - Exports'!#REF!

Sheet File Cover
A1: International Narcotics Control Board | D1: FORM A/P
A2: QUARTERLY STATISTICS OF IMPORTS AND EXPORT OF SUBSTANCES IN SCHEDULE II OF THE CONVENTION ON PSYCHOTROPIC SUBSTANCES OF 1971
A3: (to be furnished to the International Narcotics Control Board (INCB) pursuant to the Convention on Psychotropic Substances of 1971, resolution I of the United Nations Conference for the Adoption of a Protocol on Psychotropic Substances and Economic and Social Council resolution 1576 (L) and 1981/7)
A4: Country or Territory: | B4: Estonia | C4: Date (dd/mm/yyyy): | D4: 45503 | E4: =INDEX('Country & Territory List'!$B$2:$B$301,MATCH(B4,'Country & Territory List'!$A$2:$A$301,0)) -> EST
A5: Competent office: | B5: State Agency of Medicines
A6: Title or Function: | B6: Specialist / Bureau of Import and Export Supervision
A7: Responsible officer's name: | B7: Terje Parts | C7: E-mail: | D7: Terje.Parts@ravimiamet.ee
A8: Telephone number(s): | B8: +372 7 374 140 | C8: Fax numbers:
A9: The statistical data relate to the: | B9: 2 | C9: quarter of the calendar year: | D9: 2024
A10: Comments: | B10: Reference Material (RM) and Certified Reference Material (CRM) mostly from USA for re-export purposes (mcg .... less than g) for scietific and forensic purposes (see annex).
A12: Version 3.5 - NOV 2023

Sheet Instructions
B1: Instructions
B2: (to be read carefully before completing the form)
B3: General
B4: 1. All psychotropic substances under international control are listed in the annex to the annual statistical report (the “Green List”), which is distributed to Governments annually by the International Narcotics Control Board (INCB). Also under international control are the salts of the substances listed in the schedules of the Convention on Psychotropic Substances of 1971 whenever the existence of such salts is possible.
B5: 2. The following definitions are provided in order to assist respondents in correctly completing the form:
B6: (a) “Import”, as used in the 1971 Convention, is intended to include, as far as possible, the entrance of goods from abroad into a bonded warehouse, free port or free zone; similarly, “export” is intended to include the dispatch of goods abroad from a bonded warehouse, free port or free zone, although such transactions may not be treated by the national customs laws as imports and exports. Care should be taken to ensure that goods passing through customs from a bonded warehouse, free port or free zone into the country or region itself are not recorded as imports and that goods transferred from the country or region itself into a bonded warehouse, free port or free zone situated in the country or region are not recorded as exports. However, if a consignment passes in transit through a country or region to another country, it should not be considered by the country or region through which it passes as an import and subsequent export, even if the consignment is placed temporarily in a bonded warehouse, free port or free zone;
B7: (b) “Psychotropic substance” means any substance, natural or synthetic, or any natural material in Schedule I, II, III or IV of the 1971 Convention. The schedules are amended from time to time, according to a procedure established in article 2 of that Convention;
B8: (c) “Region” means any part of a State that, pursuant to article 28, is treated as a separate entity for the purposes of the Convention. The term “region” corresponds to the term “territory” used in the other statistical forms of INCB;
B9: (d) “Schedule I”, “Schedule II”, “Schedule III” and “Schedule IV” mean the correspondingly numbered lists of psychotropic substances annexed to the Convention, as altered in accordance with article 2.
B10: 3. The statistical data entered on the form should be expressed in terms of the pure anhydrous base of each psychotropic substance contained in salts and preparations, excluding the weight of any non-psychotropic substance that may be combined or mixed with it. For psychotropic substances listed in Schedule II, the weight should be reported in kilograms. A table of the conversion factors needed to convert quantities of psychotropic substances in salt form into quantities of pure anhydrous base content is provided in part three of the “Green List”.
B11: 4. The actual quantity of a psychotropic substance contained in small single-dose containers (vials or ampoules) may differ from their nominal content. In order to eliminate potential discrepancies in the trade data reported by importers and exporters, the statistical data should reflect only the nominal content of those containers, which are the quantities actually needed and requested in the import authorizations.
B12: 5. Statistical data should be based, to the extent possible, on actual movements across borders.
... B23: 12. Other statistical information that the competent authorities consider useful should be entered here (i.e. seizures data).

Sheet I - Imports
A1: I. Imports: | C1: Statistical data on substances in Schedule II of the Convention on Psychotropic Substances of 1971 (Kilograms)
A2: Substance Imported (click cell to select substance) | C2: Dexamfetamine | D2: Methylphenidate
A3: Substance Code | C3: =IF(C2="", "", INDEX('Substance List'!$B$2:$B$201,MATCH(C2,'Substance List'!$A$2:$A$201,0))) -> PD002--- | D3: =IF(D2="", "", INDEX('Substance List'!$B$2:$B$201,MATCH(D2,'Substance List'!$A$2:$A$201,0))) -> PM007--- | E3: =IF(E2="", "", INDEX('Substance List'!$B$2:$B$201,MATCH(E2,'Substance List'!$A$2:$A$201,0))) | F3: =IF(F2="", "", INDEX('Substance List'!$B$2:$B$201,MATCH(F2,'Substance List'!$A$2:$A$201,0))) | G3: =IF(G2="", "", INDEX('Substance List'!$B$2:$B$201,MATCH(G2,'Substance List'!$A$2:$A$201,0))) | H3: =IF(H2="", "", INDEX('Substance List'!$B$2:$B$201,MATCH(H2,'Substance List'!$A$2:$A$201,0))) | I3: =IF(I2="", "", INDEX('Substance List'!$B$2:$B$201,MATCH(I2,'Substance List'!$A$2:$A$201,0))) | J3: =IF(J2="", "", INDEX('Substance List'!$B$2:$B$201,MATCH(J2,'Substance List'!$A$2:$A$201,0))) | ... AZ3: =IF(AZ2="", "", INDEX('Substance List'!$B$2:$B$201,MATCH(AZ2,'Substance List'!$A$2:$A$201,0)))
A4: Total Imports | C4: =SUM(C6:C105) -> 0.158 | D4: =SUM(D6:D105) -> 20.849 | E4: =SUM(E6:E105) -> 0 | F4: =SUM(F6:F105) -> 0 | G4: =SUM(G6:G105) -> 0 | H4: =SUM(H6:H105) -> 0 | I4: =SUM(I6:I105) -> 0 | J4: =SUM(J6:J105) -> 0 | ... AZ4: =SUM(AZ6:AZ105) -> 0
A5: Country or region imported from (click cell to select country) | F5: Quantities by country
A6: Denmark | B6: =IF(A6="", "", INDEX('Country & Territory List'!$B$2:$B$301,MATCH(A6,'Country & Territory List'!$A$2:$A$301,0))) -> DEN | C6: 0.158
A7: Belgium | B7: =IF(A7="", "", INDEX('Country & Territory List'!$B$2:$B$301,MATCH(A7,'Country & Territory List'!$A$2:$A$301,0))) -> BEL | D7: 6.354
A8: Czechia | B8: =IF(A8="", "", INDEX('Country & Territory List'!$B$2:$B$301,MATCH(A8,'Country & Territory List'!$A$2:$A$301,0))) -> CZE | D8: 1.022
A9: Denmark | B9: =IF(A9="", "", INDEX('Country & Territory List'!$B$2:$B$301,MATCH(A9,'Country & Territory List'!$A$2:$A$301,0))) -> DEN | D9: 1.871
A10: Latvia | B10: =IF(A10="", "", INDEX('Country & Territory List'!$B$2:$B$301,MATCH(A10,'Country & Territory List'!$A$2:$A$301,0))) -> LAT | D10: 0.047
A11: Lithuania | B11: =IF(A11="", "", INDEX('Country & Territory List'!$B$2:$B$301,MATCH(A11,'Country & Territory List'!$A$2:$A$301,0))) -> LIT | D11: 11.555
B12: =IF(A12="", "", INDEX('Country & Territory List'!$B$2:$B$301,MATCH(A12,'Country & Territory List'!$A$2:$A$301,0)))
B13: =IF(A13="", "", INDEX('Country & Territory List'!$B$2:$B$301,MATCH(A13,'Country & Territory List'!$A$2:$A$301,0)))
B14: =IF(A14="", "", INDEX('Country & Territory List'!$B$2:$B$301,MATCH(A14,'Country & Territory List'!$A$2:$A$301,0)))
B15: =IF(A15="", "", INDEX('Country & Territory List'!$B$2:$B$301,MATCH(A15,'Country & Territory List'!$A$2:$A$301,0)))
B16: =IF(A16="", "", INDEX('Country & Territory List'!$B$2:$B$301,MATCH(A16,'Country & Territory List'!$A$2:$A$301,0)))
B17: =IF(A17="", "", INDEX('Country & Territory List'!$B$2:$B$301,MATCH(A17,'Country & Territory List'!$A$2:$A$301,0)))
B18: =IF(A18="", "", INDEX('Country & Territory List'!$B$2:$B$301,MATCH(A18,'Country & Territory List'!$A$2:$A$301,0)))
B19: =IF(A19="", "", INDEX('Country & Territory List'!$B$2:$B$301,MATCH(A19,'Country & Territory List'!$A$2:$A$301,0)))
B20: =IF(A20="", "", INDEX('Country & Territory List'!$B$2:$B$301,MATCH(A20,'Country & Territory List'!$A$2:$A$301,0)))
B21: =IF(A21="", "", INDEX('Country & Territory List'!$B$2:$B$301,MATCH(A21,'Country & Territory List'!$A$2:$A$301,0)))
B22: =IF(A22="", "", INDEX('Country & Territory List'!$B$2:$B$301,MATCH(A22,'Country & Territory List'!$A$2:$A$301,0)))
B23: =IF(A23="", "", INDEX('Country & Territory List'!$B$2:$B$301,MATCH(A23,'Country & Territory List'!$A$2:$A$301,0)))
... B105: =IF(A105="", "", INDEX('Country & Territory List'!$B$2:$B$301,MATCH(A105,'Country & Territory List'!$A$2:$A$301,0)))

Sheet II - Exports
A1: II. Exports: | C1: Statistical data on substances in Schedule II of the Convention on Psychotropic Substances of 1971 (Kilograms)
A2: Substance Exported (click cell to select substance)
A3: Substance Code | C3: =IF(C2="", "", INDEX('Substance List'!$B$2:$B$201,MATCH(C2,'Substance List'!$A$2:$A$201,0))) | D3: =IF(D2="", "", INDEX('Substance List'!$B$2:$B$201,MATCH(D2,'Substance List'!$A$2:$A$201,0))) | E3: =IF(E2="", "", INDEX('Substance List'!$B$2:$B$201,MATCH(E2,'Substance List'!$A$2:$A$201,0))) | F3: =IF(F2="", "", INDEX('Substance List'!$B$2:$B$201,MATCH(F2,'Substance List'!$A$2:$A$201,0))) | G3: =IF(G2="", "", INDEX('Substance List'!$B$2:$B$201,MATCH(G2,'Substance List'!$A$2:$A$201,0))) | H3: =IF(H2="", "", INDEX('Substance List'!$B$2:$B$201,MATCH(H2,'Substance List'!$A$2:$A$201,0))) | I3: =IF(I2="", "", INDEX('Substance List'!$B$2:$B$201,MATCH(I2,'Substance List'!$A$2:$A$201,0))) | J3: =IF(J2="", "", INDEX('Substance List'!$B$2:$B$201,MATCH(J2,'Substance List'!$A$2:$A$201,0))) | ... AZ3: =IF(AZ2="", "", INDEX('Substance List'!$B$2:$B$201,MATCH(AZ2,'Substance List'!$A$2:$A$201,0)))
A4: Total Exports | C4: =SUM(C6:C105) -> 0 | D4: =SUM(D6:D105) -> 0 | E4: =SUM(E6:E105) -> 0 | F4: =SUM(F6:F105) -> 0 | G4: =SUM(G6:G105) -> 0 | H4: =SUM(H6:H105) -> 0 | I4: =SUM(I6:I105) -> 0 | J4: =SUM(J6:J105) -> 0 | ... AZ4: =SUM(AZ6:AZ105) -> 0
A5: Country or region exported to (click cell to select country) | F5: Quantities by country
B6: =IF(A6="", "", INDEX('Country & Territory List'!$B$2:$B$301,MATCH(A6,'Country & Territory List'!$A$2:$A$301,0)))
B7: =IF(A7="", "", INDEX('Country & Territory List'!$B$2:$B$301,MATCH(A7,'Country & Territory List'!$A$2:$A$301,0)))
B8: =IF(A8="", "", INDEX('Country & Territory List'!$B$2:$B$301,MATCH(A8,'Country & Territory List'!$A$2:$A$301,0)))
B9: =IF(A9="", "", INDEX('Country & Territory List'!$B$2:$B$301,MATCH(A9,'Country & Territory List'!$A$2:$A$301,0)))
B10: =IF(A10="", "", INDEX('Country & Territory List'!$B$2:$B$301,MATCH(A10,'Country & Territory List'!$A$2:$A$301,0)))
B11: =IF(A11="", "", INDEX('Country & Territory List'!$B$2:$B$301,MATCH(A11,'Country & Territory List'!$A$2:$A$301,0)))
B12: =IF(A12="", "", INDEX('Country & Territory List'!$B$2:$B$301,MATCH(A12,'Country & Territory List'!$A$2:$A$301,0)))
B13: =IF(A13="", "", INDEX('Country & Territory List'!$B$2:$B$301,MATCH(A13,'Country & Territory List'!$A$2:$A$301,0)))
B14: =IF(A14="", "", INDEX('Country & Territory List'!$B$2:$B$301,MATCH(A14,'Country & Territory List'!$A$2:$A$301,0)))
B15: =IF(A15="", "", INDEX('Country & Territory List'!$B$2:$B$301,MATCH(A15,'Country & Territory List'!$A$2:$A$301,0)))
B16: =IF(A16="", "", INDEX('Country & Territory List'!$B$2:$B$301,MATCH(A16,'Country & Territory List'!$A$2:$A$301,0)))
B17: =IF(A17="", "", INDEX('Country & Territory List'!$B$2:$B$301,MATCH(A17,'Country & Territory List'!$A$2:$A$301,0)))
... B106: =IF(A106="", "", INDEX('Country & Territory List'!$B$2:$B$301,MATCH(A106,'Country & Territory List'!$A$2:$A$301,0)))

Sheet III - Other
A1: III. Other statistical information that the competent authorities consider useful

Sheet Country & Territory List
A1: Country/Territory Name | B1: Country/Territory Code
A2: Afghanistan | B2: AFG
A3: Albania | B3: ALB
A4: Algeria | B4: ALG
A5: Andorra | B5: AND
A6: Angola | B6: ANG
A7: Anguilla | B7: ANL
A8: Antigua and Barbuda | B8: ANT
A9: Argentina | B9: ARG
A10: Armenia | B10: ARM
A11: Aruba | B11: ARU
A12: Ascension Island | B12: ASC
... A226: Unknow - UKN | B226: UKN

Sheet Substance List
A1: Substance Name | B1: Substance Code
A2: 2C-B (4-Bromo-2,5-dimethoxyphenethylamine) | B2: PB008---
A3: 3-Methoxyphencyclidine | B3: PM031---
A4: 3-Methylmethcathinone | B4: PM032---
A5: 4-CMC (4-chloromethcathinone, clephedrone) | B5: PC014---
A6: 4-fluoroamphetamine (4-FA) | B6: PF007---
A7: 4-F-MDMB-BINACA | B7: PM029---
A8: 4-Methylethcathinone (4-MEC) | B8: PM027---
A9: 5F-ADB (5F-MDMB-PINACA) | B9: PP011---
A10: 5F-AMB-PINACA (5F-AMB, 5F-MMB-PINACA) | B10: PA010---
A11: 5F-Apinaca | B11: PA009---
A12: 5F-MDMB-PICA (5F-MDMB-2201) | B12: PM028---
... A62: Zipeprol | B62: PZ001---

Sheet Revision History
A1: Date | B1: Version | C1: Author | D1: Description of change
A2: 42992 | B2: 1 | C2: DK | D2: Created
A3: 43019 | B3: 1 | C3: DK | D3: Added extra columns to AZ in I-Imports and II-Exports
A4: 43021 | B4: 1 | C4: DK | D4: Changed cell formats to #,##0.0#####
